BEGIN:VCALENDAR
VERSION:2.0
PRODID:-//Ocean County Tourism - ECPv6.15.18//NONSGML v1.0//EN
CALSCALE:GREGORIAN
METHOD:PUBLISH
X-ORIGINAL-URL:https://oceancountytourism.com
X-WR-CALDESC:Events for Ocean County Tourism
REFRESH-INTERVAL;VALUE=DURATION:PT1H
X-Robots-Tag:noindex
X-PUBLISHED-TTL:PT1H
BEGIN:VTIMEZONE
TZID:America/New_York
BEGIN:DAYLIGHT
TZOFFSETFROM:-0500
TZOFFSETTO:-0400
TZNAME:EDT
DTSTART:20250309T070000
END:DAYLIGHT
BEGIN:STANDARD
TZOFFSETFROM:-0400
TZOFFSETTO:-0500
TZNAME:EST
DTSTART:20251102T060000
END:STANDARD
BEGIN:DAYLIGHT
TZOFFSETFROM:-0500
TZOFFSETTO:-0400
TZNAME:EDT
DTSTART:20260308T070000
END:DAYLIGHT
BEGIN:STANDARD
TZOFFSETFROM:-0400
TZOFFSETTO:-0500
TZNAME:EST
DTSTART:20261101T060000
END:STANDARD
BEGIN:DAYLIGHT
TZOFFSETFROM:-0500
TZOFFSETTO:-0400
TZNAME:EDT
DTSTART:20270314T070000
END:DAYLIGHT
BEGIN:STANDARD
TZOFFSETFROM:-0400
TZOFFSETTO:-0500
TZNAME:EST
DTSTART:20271107T060000
END:STANDARD
END:VTIMEZONE
BEGIN:VEVENT
DTSTART;TZID=America/New_York:20260502T100000
DTEND;TZID=America/New_York:20260502T140000
DTSTAMP:20260421T110256
CREATED:20260202T200551Z
LAST-MODIFIED:20260225T191841Z
UID:10041161-1777716000-1777730400@oceancountytourism.com
SUMMARY:Spring Forestry Festival
DESCRIPTION:2026 Spring Forestry Festival \nSave the date! \nSaturday May 2\, 2026 10am-2pm \nA free event held at the Forest Resource Education Center \n495 Don Connor Blvd\, Jackson NJ \nFor more information email Joseph Bennett @ joseph.bennett@dep.nj.gov \nThis free\, family-friendly event (formerly known as the Big Tree Event) celebrates forestry\, conservation\, and New Jersey’s natural resources and is open to the public\, rain or shine.
URL:https://oceancountytourism.com/event/spring-forestry-festival/
LOCATION:Forest Resource Education Center\, 495 Don Conner Blvd\, Jackson\, NJ\, 08527\, United States
CATEGORIES:Festivals & Family Fun
ATTACH;FMTTYPE=image/jpeg:https://oceancountytourism.com/wp-content/uploads/2026/02/618218489_1175511597998177_2518635192159815278_n.jpg
END:VEVENT
BEGIN:VEVENT
DTSTART;TZID=America/New_York:20260502T120000
DTEND;TZID=America/New_York:20260502T180000
DTSTAMP:20260421T110256
CREATED:20260121T125431Z
LAST-MODIFIED:20260402T175326Z
UID:10040866-1777723200-1777744800@oceancountytourism.com
SUMMARY:Cinco De Mayo Celebration
DESCRIPTION:Downtown Toms River Cinco De Mayo Celebration \nMay 2nd \n12pm-6pm \nWashington Street \nMusic-Food-Vendors-Fun \n1-4pm live music presented by Battle River Brewing \n 
URL:https://oceancountytourism.com/event/cinco-de-mayo-2/
LOCATION:Washington Street\, 101 Washington Street\, Toms River\, NJ\, 08753\, United States
CATEGORIES:Festivals & Family Fun
ATTACH;FMTTYPE=image/png:https://oceancountytourism.com/wp-content/uploads/2026/01/Official-Flyer-2026.png
END:VEVENT
BEGIN:VEVENT
DTSTART;TZID=America/New_York:20260502T120000
DTEND;TZID=America/New_York:20260502T180000
DTSTAMP:20260421T110256
CREATED:20260306T182307Z
LAST-MODIFIED:20260316T174457Z
UID:10041541-1777723200-1777744800@oceancountytourism.com
SUMMARY:First Responders Day
DESCRIPTION:Casino Pier First Responders Day \nSaturday May 2 \nFree unlimited rides for First Responders 12-6pm \nJoin us on May 2nd for First Responders Day at Casino Pier\, a special day dedicated to honoring the heroes who serve our community. \nEnjoy an exciting Touch-A-Truck experience with emergency vehicles displayed right on the pier\, plus face painting and special Police Patrol Pup & Fire Patrol Pup character appearances that kids will love. \nAs a thank-you\, first responders and their immediate family receive free rides throughout the day. \nBring the whole family and celebrate with fun\, smiles\, and appreciation on the pier! \n 12pm-6pm: Essential First Responders with valid ID (including FireFighters\, Police\, Military\, Nurses\, Doctors\, EMT) and Immediate Family Members (spouse and children) will receive a FREE Unlimited Ride Wristband from 12pm-6pm \n\n*Wristband Excludes Go-Karts\, Skyscraper\, Sky Ride & SkyCoaster \n12pm-2pm: FREE Touch a Truck with Seaside Heights’ Police\, Fire and Tri Boro first responder vehicles on the Pier\n12pm-2pm: FREE Character Meet & Greets + Face Painting on the Pier \n 
URL:https://oceancountytourism.com/event/first-responders-day/
LOCATION:Casino Pier & Breakwater Beach\, 800 Ocean Terrace\, Seaside Heights\, NJ\, 08751\, United States
CATEGORIES:Festivals & Family Fun
ATTACH;FMTTYPE=image/jpeg:https://oceancountytourism.com/wp-content/uploads/2026/03/647144378_1375071311332268_1879911135121292712_n.jpg
END:VEVENT
BEGIN:VEVENT
DTSTART;TZID=America/New_York:20260502T120000
DTEND;TZID=America/New_York:20260502T180000
DTSTAMP:20260421T110256
CREATED:20260417T120844Z
LAST-MODIFIED:20260417T120844Z
UID:10042462-1777723200-1777744800@oceancountytourism.com
SUMMARY:Ocean County Tourism at Downtown Toms River's Cinco De Mayo!
DESCRIPTION:Join Us at Cinco de Mayo in Downtown Toms River! 🇲🇽\n\n\n \n\n\nOcean County Tourism will be set up on Washington Street on May 2 from 12PM–6PM and we’d love for you to stop by! Downtown Toms River\n\n\n \n\n\nSwing by our table to:\n Play fun games\n\n\nWin Ocean County World Cup swag\n\n\nLearn more about everything Ocean County has to offer\n\n\n \n\n\nBring your friends\, enjoy the festivities\, and celebrate with us\, we’ll see you there! 
URL:https://oceancountytourism.com/event/ocean-county-tourism-at-downtown-toms-rivers-cinco-de-mayo/
LOCATION:Washington Street\, 101 Washington Street\, Toms River\, NJ\, 08753\, United States
CATEGORIES:Festivals & Family Fun
ATTACH;FMTTYPE=image/png:https://oceancountytourism.com/wp-content/uploads/2026/04/Black-and-White-Minimalist-Cinco-De-Mayo-Party-Invitation.png
END:VEVENT
BEGIN:VEVENT
DTSTART;TZID=America/New_York:20260502T130000
DTEND;TZID=America/New_York:20260502T180000
DTSTAMP:20260421T110256
CREATED:20260316T161039Z
LAST-MODIFIED:20260401T152044Z
UID:10041751-1777726800-1777744800@oceancountytourism.com
SUMMARY:Craft Beer & Food Truck Festival
DESCRIPTION:Beach Haven Fire Craft Beer & Food Truck Festival \nMay 2\, 2026 \n1pm-6pm Rain date: May 9th \nVeteran’s Memorial Park \nDrinking\, 21yo+ $25 admission \nDonation based entry\, other attendees \nCraft beer\, food trucks\, live music & craft vendors. \n 
URL:https://oceancountytourism.com/event/craft-beer-food-truck-festival-2/
LOCATION:Veterans Memorial Park\, 198 Engleside Ave\, Beach Haven\, NJ\, 08008\, United States
CATEGORIES:Festivals & Family Fun,Food,Live Entertainment
ATTACH;FMTTYPE=image/jpeg:https://oceancountytourism.com/wp-content/uploads/2026/03/653374234_10163197209783778_599876216885666883_n.jpg
END:VEVENT
END:VCALENDAR