BEGIN:VCALENDAR
VERSION:2.0
PRODID:-//Ocean County Tourism - ECPv6.15.18//NONSGML v1.0//EN
CALSCALE:GREGORIAN
METHOD:PUBLISH
X-ORIGINAL-URL:https://oceancountytourism.com
X-WR-CALDESC:Events for Ocean County Tourism
REFRESH-INTERVAL;VALUE=DURATION:PT1H
X-Robots-Tag:noindex
X-PUBLISHED-TTL:PT1H
BEGIN:VTIMEZONE
TZID:America/New_York
BEGIN:DAYLIGHT
TZOFFSETFROM:-0500
TZOFFSETTO:-0400
TZNAME:EDT
DTSTART:20250309T070000
END:DAYLIGHT
BEGIN:STANDARD
TZOFFSETFROM:-0400
TZOFFSETTO:-0500
TZNAME:EST
DTSTART:20251102T060000
END:STANDARD
BEGIN:DAYLIGHT
TZOFFSETFROM:-0500
TZOFFSETTO:-0400
TZNAME:EDT
DTSTART:20260308T070000
END:DAYLIGHT
BEGIN:STANDARD
TZOFFSETFROM:-0400
TZOFFSETTO:-0500
TZNAME:EST
DTSTART:20261101T060000
END:STANDARD
BEGIN:DAYLIGHT
TZOFFSETFROM:-0500
TZOFFSETTO:-0400
TZNAME:EDT
DTSTART:20270314T070000
END:DAYLIGHT
BEGIN:STANDARD
TZOFFSETFROM:-0400
TZOFFSETTO:-0500
TZNAME:EST
DTSTART:20271107T060000
END:STANDARD
END:VTIMEZONE
BEGIN:VEVENT
DTSTART;TZID=America/New_York:20261002T090000
DTEND;TZID=America/New_York:20261002T213000
DTSTAMP:20260425T143522
CREATED:20251202T165108Z
LAST-MODIFIED:20260309T112211Z
UID:10039964-1790931600-1790976600@oceancountytourism.com
SUMMARY:LBI Kite Show
DESCRIPTION:Surf City International Kite Festival – October 2\, 3 & 4  2026🪁 \nJoin us in Surf City for three exciting days of color\, creativity\, and high-flying fun at the Surf City International Kite Festival\, presented by KiteVisions Inc. \nFamilies and visitors of all ages are invited to experience the magic of kites filling the sky along our beautiful shoreline. \nWatch professional kite fliers from around the world perform breathtaking demonstrations with giant show kites\, artistic creations\, and thrilling sport kites. \nThroughout the festival\, enjoy kite-making workshops\, artisan kite displays\, and interactive opportunities to learn about the history\, art\, and science of kite flying. \nFestival highlights include a mesmerizing Indoor Kite Show\, a glowing evening Night Fly\, and the lively Kite Band\, creating a unique blend of music and kite performance. \nCelebrate a timeless family tradition and experience a sky full of wonder\, creativity\, and community spirit. \n✨ Bring the family and watch the sky come alive! \nhttps://kitevisions.com/ \nCall us to become a sponsor: 609-234-1796 \nEmail: lisa@kitevisions.com
URL:https://oceancountytourism.com/event/lbi-kite-show/2026-10-02/
LOCATION:Surf City\, Surf City\, 08008\, United States
CATEGORIES:Festivals & Family Fun
ATTACH;FMTTYPE=image/jpeg:https://oceancountytourism.com/wp-content/uploads/2025/12/2026flyer-scaled-1.jpg
ORGANIZER;CN="KiteVisions":MAILTO:lisa@kitevisions.com
END:VEVENT
BEGIN:VEVENT
DTSTART;TZID=America/New_York:20261002T170000
DTEND;TZID=America/New_York:20261002T220000
DTSTAMP:20260425T143522
CREATED:20260121T130421Z
LAST-MODIFIED:20260217T170833Z
UID:10040922-1790960400-1790978400@oceancountytourism.com
SUMMARY:Downtown Night Out
DESCRIPTION:Downtown Toms River’s Downtown Night Out Themes \nDTNO Starts May 29th- October 17th \nFridays & Saturdays 5pm-10pm \nMay 30th – Dog’s Night Out \nAugust 8th – Princess Party \nSeptember 5th- Local Summer \nSeptember 26th – Family Fun Night \nOctober 9th – Flannel Fest \nOctober 10th – Howl-O-Ween \n#Meetmedowntown learn more at: www.downtowntomsriver.com \nemail: info@downtowntomsriver.com or call 732-341-8738 \nSponsor a theme night! Host a fundraiser\, contact the BID to learn more!
URL:https://oceancountytourism.com/event/downtown-night-out-2/2026-10-02/
LOCATION:Washington Street\, 101 Washington Street\, Toms River\, NJ\, 08753\, United States
CATEGORIES:Festivals & Family Fun,Food
ATTACH;FMTTYPE=image/jpeg:https://oceancountytourism.com/wp-content/uploads/2026/01/617499317_1463560862440822_5281405072319168570_n.jpg
END:VEVENT
BEGIN:VEVENT
DTSTART;TZID=America/New_York:20261003T093000
DTEND;TZID=America/New_York:20261003T230000
DTSTAMP:20260425T143522
CREATED:20251202T165108Z
LAST-MODIFIED:20260309T112211Z
UID:10039965-1791019800-1791068400@oceancountytourism.com
SUMMARY:LBI Kite Show
DESCRIPTION:Surf City International Kite Festival – October 2\, 3 & 4  2026🪁 \nJoin us in Surf City for three exciting days of color\, creativity\, and high-flying fun at the Surf City International Kite Festival\, presented by KiteVisions Inc. \nFamilies and visitors of all ages are invited to experience the magic of kites filling the sky along our beautiful shoreline. \nWatch professional kite fliers from around the world perform breathtaking demonstrations with giant show kites\, artistic creations\, and thrilling sport kites. \nThroughout the festival\, enjoy kite-making workshops\, artisan kite displays\, and interactive opportunities to learn about the history\, art\, and science of kite flying. \nFestival highlights include a mesmerizing Indoor Kite Show\, a glowing evening Night Fly\, and the lively Kite Band\, creating a unique blend of music and kite performance. \nCelebrate a timeless family tradition and experience a sky full of wonder\, creativity\, and community spirit. \n✨ Bring the family and watch the sky come alive! \nhttps://kitevisions.com/ \nCall us to become a sponsor: 609-234-1796 \nEmail: lisa@kitevisions.com
URL:https://oceancountytourism.com/event/lbi-kite-show/2026-10-03/
LOCATION:Surf City\, Surf City\, 08008\, United States
CATEGORIES:Festivals & Family Fun
ATTACH;FMTTYPE=image/jpeg:https://oceancountytourism.com/wp-content/uploads/2025/12/2026flyer-scaled-1.jpg
ORGANIZER;CN="KiteVisions":MAILTO:lisa@kitevisions.com
END:VEVENT
BEGIN:VEVENT
DTSTART;TZID=America/New_York:20261003T170000
DTEND;TZID=America/New_York:20261003T220000
DTSTAMP:20260425T143522
CREATED:20260121T130421Z
LAST-MODIFIED:20260217T170833Z
UID:10040923-1791046800-1791064800@oceancountytourism.com
SUMMARY:Downtown Night Out
DESCRIPTION:Downtown Toms River’s Downtown Night Out Themes \nDTNO Starts May 29th- October 17th \nFridays & Saturdays 5pm-10pm \nMay 30th – Dog’s Night Out \nAugust 8th – Princess Party \nSeptember 5th- Local Summer \nSeptember 26th – Family Fun Night \nOctober 9th – Flannel Fest \nOctober 10th – Howl-O-Ween \n#Meetmedowntown learn more at: www.downtowntomsriver.com \nemail: info@downtowntomsriver.com or call 732-341-8738 \nSponsor a theme night! Host a fundraiser\, contact the BID to learn more!
URL:https://oceancountytourism.com/event/downtown-night-out-2/2026-10-03/
LOCATION:Washington Street\, 101 Washington Street\, Toms River\, NJ\, 08753\, United States
CATEGORIES:Festivals & Family Fun,Food
ATTACH;FMTTYPE=image/jpeg:https://oceancountytourism.com/wp-content/uploads/2026/01/617499317_1463560862440822_5281405072319168570_n.jpg
END:VEVENT
BEGIN:VEVENT
DTSTART;TZID=America/New_York:20261004T093000
DTEND;TZID=America/New_York:20261004T160000
DTSTAMP:20260425T143522
CREATED:20251202T165108Z
LAST-MODIFIED:20260309T112211Z
UID:10039966-1791106200-1791129600@oceancountytourism.com
SUMMARY:LBI Kite Show
DESCRIPTION:Surf City International Kite Festival – October 2\, 3 & 4  2026🪁 \nJoin us in Surf City for three exciting days of color\, creativity\, and high-flying fun at the Surf City International Kite Festival\, presented by KiteVisions Inc. \nFamilies and visitors of all ages are invited to experience the magic of kites filling the sky along our beautiful shoreline. \nWatch professional kite fliers from around the world perform breathtaking demonstrations with giant show kites\, artistic creations\, and thrilling sport kites. \nThroughout the festival\, enjoy kite-making workshops\, artisan kite displays\, and interactive opportunities to learn about the history\, art\, and science of kite flying. \nFestival highlights include a mesmerizing Indoor Kite Show\, a glowing evening Night Fly\, and the lively Kite Band\, creating a unique blend of music and kite performance. \nCelebrate a timeless family tradition and experience a sky full of wonder\, creativity\, and community spirit. \n✨ Bring the family and watch the sky come alive! \nhttps://kitevisions.com/ \nCall us to become a sponsor: 609-234-1796 \nEmail: lisa@kitevisions.com
URL:https://oceancountytourism.com/event/lbi-kite-show/2026-10-04/
LOCATION:Surf City\, Surf City\, 08008\, United States
CATEGORIES:Festivals & Family Fun
ATTACH;FMTTYPE=image/jpeg:https://oceancountytourism.com/wp-content/uploads/2025/12/2026flyer-scaled-1.jpg
ORGANIZER;CN="KiteVisions":MAILTO:lisa@kitevisions.com
END:VEVENT
BEGIN:VEVENT
DTSTART;TZID=America/New_York:20261004T120000
DTEND;TZID=America/New_York:20261004T140000
DTSTAMP:20260425T143522
CREATED:20260422T150652Z
LAST-MODIFIED:20260422T150652Z
UID:10042553-1791115200-1791122400@oceancountytourism.com
SUMMARY:Sirens & Smiles
DESCRIPTION:Dive into a day of fun and community at Casino Pier with Sirens & Smiles!\nThis family-friendly event brings excitement for kids of all ages with a mix of hands-on activities and playful learning.\nExplore and touch real first responders’ vehicles right outside the arcade\, meet first responder characters up close\,\npet the cutest farm animals at our Petting Zoo and celebrate the heroes who keep our community safe.\nAdd some sparkle with fun-themed face painting\, and enjoy rides\, laughter\, and smiles all day long.\nIt’s a perfect combination of education\, interaction\, and pure boardwalk fun — a day where kids can learn\, play\, and feel like heroes themselves!\nFREE Touch a Truck\, Meet & Greet First Responder Characters\, Face Painting & Fun located outside the Arcade\, 12pm-2pmFREE Petting Zoo on the Midway\, 12pm-2pm$1 Casino Pier Fire Truck Hats for the kids!\nFamily-friendly entertainment for all ages
URL:https://oceancountytourism.com/event/sirens-smiles/
LOCATION:Casino Pier & Breakwater Beach\, 800 Ocean Terrace\, Seaside Heights\, NJ\, 08751\, United States
CATEGORIES:Festivals & Family Fun
ATTACH;FMTTYPE=image/jpeg:https://oceancountytourism.com/wp-content/uploads/2026/04/674285862_1413781914127874_5796167633426885491_n.jpg
END:VEVENT
BEGIN:VEVENT
DTSTART;TZID=America/New_York:20261005T100000
DTEND;TZID=America/New_York:20261005T150000
DTSTAMP:20260425T143522
CREATED:20260107T150826Z
LAST-MODIFIED:20260217T172223Z
UID:10040477-1791194400-1791212400@oceancountytourism.com
SUMMARY:12th Annual Classic Car Show
DESCRIPTION:Greenbriar Oceanaire Car Club & The Causeway Family of Dealerships: \n12th Annual Classic Car Show \nMonday October 5th\, 2026 Rain Date: Monday 10/26/26 \nShow Hours from 10am-3pm \nFree car show\, live music\, free registration\, food and beverage son site\, foreign car area\, rest rooms\, blacktop spaces\, test drive cars from the Causeway Family of Dealerships \nShow Location: 1 Heritage Circle Whiting NJ 08758 \nMore Info call: \nJim- 609-756-4359 \nDon- 609-668-2210 \nFlyer Shared from www.jerseyshorecarshows.com \nFor more information visit: HOME | Jersey Shore Car Shows
URL:https://oceancountytourism.com/event/12th-annual-classic-car-show/
LOCATION:Greenbriar Oceanaire Clubhouse\, 1 Heritage Circle\, Waretown\, NJ\, 08758\, United States
CATEGORIES:Festivals & Family Fun
ATTACH;FMTTYPE=image/jpeg:https://oceancountytourism.com/wp-content/uploads/2026/01/612204673_897106489542209_3789098535466129342_n.jpg
END:VEVENT
BEGIN:VEVENT
DTSTART;TZID=America/New_York:20261009T080000
DTEND;TZID=America/New_York:20261009T170000
DTSTAMP:20260425T143522
CREATED:20260225T193209Z
LAST-MODIFIED:20260225T193209Z
UID:10041478-1791532800-1791565200@oceancountytourism.com
SUMMARY:12th Annual LBI Fly Invitational Kite Festival
DESCRIPTION:Save the Date \n12th Annual LBI FLY Invitational Kite Festival 2026 \nOctober 9-10 Long Beach Island \nShip Bottom\, NJ Long Beach Township NJ \nFor all official information and details visit lbifly.com and follow @lbiflykitefestival \nThe Official Kite Festival of the LBI Chamber of Commerce \nwelcometolbi.com @welcometolbi
URL:https://oceancountytourism.com/event/12th-annual-lbi-fly-invitational-kite-festival/2026-10-09/
LOCATION:19th Street\, 19th Street\, Ship Bottom\, NJ\, 08008\, United States
CATEGORIES:Festivals & Family Fun
ATTACH;FMTTYPE=image/jpeg:https://oceancountytourism.com/wp-content/uploads/2026/02/631511353_18532978156066938_3274458362143820228_n.jpg
END:VEVENT
BEGIN:VEVENT
DTSTART;TZID=America/New_York:20261009T160000
DTEND;TZID=America/New_York:20261009T220000
DTSTAMP:20260425T143522
CREATED:20260318T122255Z
LAST-MODIFIED:20260318T122255Z
UID:10041829-1791561600-1791583200@oceancountytourism.com
SUMMARY:Italian Festival
DESCRIPTION:Ocean County Columbus Day Parade Committee \nItalian Street Festival \nPresented by New Jersey Lottery \nFriday\, October 9th\, 2026\, 4:00pm to 10:00pm\nSaturday\, October 10th\, 2026\, 10:00am to 10:00pm\nand Sunday\, October 11th\, 2026\, 10:00am to 8:00pm\non Grant Avenue in Seaside Heights \nOcean County Columbus Day Parade and Italian Festival
URL:https://oceancountytourism.com/event/italian-festival-2/2026-10-09/
LOCATION:Grant Avenue\, Grant Avenue\, Seaside Heights\, NJ\, 08751\, United States
CATEGORIES:Festivals & Family Fun,Food
ATTACH;FMTTYPE=image/png:https://oceancountytourism.com/wp-content/uploads/2026/03/italian.png
ORGANIZER;CN="Ocean County Columbus Day Parade Committee":MAILTO:info@columbusnj.org
END:VEVENT
BEGIN:VEVENT
DTSTART;TZID=America/New_York:20261009T170000
DTEND;TZID=America/New_York:20261009T220000
DTSTAMP:20260425T143522
CREATED:20260121T130421Z
LAST-MODIFIED:20260217T170833Z
UID:10040924-1791565200-1791583200@oceancountytourism.com
SUMMARY:Downtown Night Out
DESCRIPTION:Downtown Toms River’s Downtown Night Out Themes \nDTNO Starts May 29th- October 17th \nFridays & Saturdays 5pm-10pm \nMay 30th – Dog’s Night Out \nAugust 8th – Princess Party \nSeptember 5th- Local Summer \nSeptember 26th – Family Fun Night \nOctober 9th – Flannel Fest \nOctober 10th – Howl-O-Ween \n#Meetmedowntown learn more at: www.downtowntomsriver.com \nemail: info@downtowntomsriver.com or call 732-341-8738 \nSponsor a theme night! Host a fundraiser\, contact the BID to learn more!
URL:https://oceancountytourism.com/event/downtown-night-out-2/2026-10-09/
LOCATION:Washington Street\, 101 Washington Street\, Toms River\, NJ\, 08753\, United States
CATEGORIES:Festivals & Family Fun,Food
ATTACH;FMTTYPE=image/jpeg:https://oceancountytourism.com/wp-content/uploads/2026/01/617499317_1463560862440822_5281405072319168570_n.jpg
END:VEVENT
BEGIN:VEVENT
DTSTART;TZID=America/New_York:20261010T080000
DTEND;TZID=America/New_York:20261010T170000
DTSTAMP:20260425T143522
CREATED:20260225T193209Z
LAST-MODIFIED:20260225T193209Z
UID:10041479-1791619200-1791651600@oceancountytourism.com
SUMMARY:12th Annual LBI Fly Invitational Kite Festival
DESCRIPTION:Save the Date \n12th Annual LBI FLY Invitational Kite Festival 2026 \nOctober 9-10 Long Beach Island \nShip Bottom\, NJ Long Beach Township NJ \nFor all official information and details visit lbifly.com and follow @lbiflykitefestival \nThe Official Kite Festival of the LBI Chamber of Commerce \nwelcometolbi.com @welcometolbi
URL:https://oceancountytourism.com/event/12th-annual-lbi-fly-invitational-kite-festival/2026-10-10/
LOCATION:19th Street\, 19th Street\, Ship Bottom\, NJ\, 08008\, United States
CATEGORIES:Festivals & Family Fun
ATTACH;FMTTYPE=image/jpeg:https://oceancountytourism.com/wp-content/uploads/2026/02/631511353_18532978156066938_3274458362143820228_n.jpg
END:VEVENT
BEGIN:VEVENT
DTSTART;TZID=America/New_York:20261010T100000
DTEND;TZID=America/New_York:20261010T220000
DTSTAMP:20260425T143522
CREATED:20260318T122255Z
LAST-MODIFIED:20260318T122255Z
UID:10041830-1791626400-1791669600@oceancountytourism.com
SUMMARY:Italian Festival
DESCRIPTION:Ocean County Columbus Day Parade Committee \nItalian Street Festival \nPresented by New Jersey Lottery \nFriday\, October 9th\, 2026\, 4:00pm to 10:00pm\nSaturday\, October 10th\, 2026\, 10:00am to 10:00pm\nand Sunday\, October 11th\, 2026\, 10:00am to 8:00pm\non Grant Avenue in Seaside Heights \nOcean County Columbus Day Parade and Italian Festival
URL:https://oceancountytourism.com/event/italian-festival-2/2026-10-10/
LOCATION:Grant Avenue\, Grant Avenue\, Seaside Heights\, NJ\, 08751\, United States
CATEGORIES:Festivals & Family Fun,Food
ATTACH;FMTTYPE=image/png:https://oceancountytourism.com/wp-content/uploads/2026/03/italian.png
ORGANIZER;CN="Ocean County Columbus Day Parade Committee":MAILTO:info@columbusnj.org
END:VEVENT
BEGIN:VEVENT
DTSTART;TZID=America/New_York:20261010T120000
DTEND;TZID=America/New_York:20261010T200000
DTSTAMP:20260425T143522
CREATED:20260227T122041Z
LAST-MODIFIED:20260227T122202Z
UID:10041491-1791633600-1791662400@oceancountytourism.com
SUMMARY:South Toms River Food Trucks & Craft Beer Festival
DESCRIPTION:Save the date! \nSouth Toms River Food Trucks & Craft Beer Festival \nOctober 10\, 2026 \nMore information coming soon! \nFacebook \nFood Trucks | South Toms River EMS
URL:https://oceancountytourism.com/event/south-toms-river-food-trucks-craft-beer-festival-2/
LOCATION:Mathis Plaza Park\, 134 NJ-166\, South Toms River\, NJ\, 08757\, United States
CATEGORIES:Festivals & Family Fun,Food
ATTACH;FMTTYPE=image/jpeg:https://oceancountytourism.com/wp-content/uploads/2026/02/628678746_1357635349736709_4266262982833213653_n.jpg
ORGANIZER;CN="South Toms River Food Trucks & Craft Beer Festival":MAILTO:foodtruck@strfas.org
END:VEVENT
BEGIN:VEVENT
DTSTART;TZID=America/New_York:20261010T160000
DTEND;TZID=America/New_York:20261010T210000
DTSTAMP:20260425T143522
CREATED:20260107T152258Z
LAST-MODIFIED:20260217T201633Z
UID:10040486-1791648000-1791666000@oceancountytourism.com
SUMMARY:A Hot Rod Haunting
DESCRIPTION:A Hot Rod Haunting \nAt Adventure Crossing USA Part II \n515 Monmouth Rd\, Jackson NJ \nSaturday October 10th 4pm-9pm \nRegistration starts 3pm Free event open to all makes and models \nTrophies\, trunk or treat\, costume contest and car decorating contest. Donations benefit The Mission\, Hosted by Surf Corvette Club \nFor more information visit: HOME | Jersey Shore Car Shows
URL:https://oceancountytourism.com/event/a-hot-rod-haunting/
LOCATION:Adventure Crossing USA\, 515 Monmouth Rd\, Jackson\, 08527\, United States
CATEGORIES:Festivals & Family Fun
ATTACH;FMTTYPE=image/jpeg:https://oceancountytourism.com/wp-content/uploads/2026/01/612218620_897106562875535_30115132911983764_n.jpg
ORGANIZER;CN="Jersey Shore Car Shows":MAILTO:info@jerseyshorecarshows.org
END:VEVENT
BEGIN:VEVENT
DTSTART;TZID=America/New_York:20261010T170000
DTEND;TZID=America/New_York:20261010T220000
DTSTAMP:20260425T143522
CREATED:20260121T130421Z
LAST-MODIFIED:20260217T170833Z
UID:10040925-1791651600-1791669600@oceancountytourism.com
SUMMARY:Downtown Night Out
DESCRIPTION:Downtown Toms River’s Downtown Night Out Themes \nDTNO Starts May 29th- October 17th \nFridays & Saturdays 5pm-10pm \nMay 30th – Dog’s Night Out \nAugust 8th – Princess Party \nSeptember 5th- Local Summer \nSeptember 26th – Family Fun Night \nOctober 9th – Flannel Fest \nOctober 10th – Howl-O-Ween \n#Meetmedowntown learn more at: www.downtowntomsriver.com \nemail: info@downtowntomsriver.com or call 732-341-8738 \nSponsor a theme night! Host a fundraiser\, contact the BID to learn more!
URL:https://oceancountytourism.com/event/downtown-night-out-2/2026-10-10/
LOCATION:Washington Street\, 101 Washington Street\, Toms River\, NJ\, 08753\, United States
CATEGORIES:Festivals & Family Fun,Food
ATTACH;FMTTYPE=image/jpeg:https://oceancountytourism.com/wp-content/uploads/2026/01/617499317_1463560862440822_5281405072319168570_n.jpg
END:VEVENT
BEGIN:VEVENT
DTSTART;TZID=America/New_York:20261011T100000
DTEND;TZID=America/New_York:20261011T200000
DTSTAMP:20260425T143522
CREATED:20260318T122255Z
LAST-MODIFIED:20260318T122255Z
UID:10041831-1791712800-1791748800@oceancountytourism.com
SUMMARY:Italian Festival
DESCRIPTION:Ocean County Columbus Day Parade Committee \nItalian Street Festival \nPresented by New Jersey Lottery \nFriday\, October 9th\, 2026\, 4:00pm to 10:00pm\nSaturday\, October 10th\, 2026\, 10:00am to 10:00pm\nand Sunday\, October 11th\, 2026\, 10:00am to 8:00pm\non Grant Avenue in Seaside Heights \nOcean County Columbus Day Parade and Italian Festival
URL:https://oceancountytourism.com/event/italian-festival-2/2026-10-11/
LOCATION:Grant Avenue\, Grant Avenue\, Seaside Heights\, NJ\, 08751\, United States
CATEGORIES:Festivals & Family Fun,Food
ATTACH;FMTTYPE=image/png:https://oceancountytourism.com/wp-content/uploads/2026/03/italian.png
ORGANIZER;CN="Ocean County Columbus Day Parade Committee":MAILTO:info@columbusnj.org
END:VEVENT
BEGIN:VEVENT
DTSTART;TZID=America/New_York:20261011T130000
DTEND;TZID=America/New_York:20261011T130000
DTSTAMP:20260425T143522
CREATED:20260318T121602Z
LAST-MODIFIED:20260318T121602Z
UID:10041828-1791723600-1791723600@oceancountytourism.com
SUMMARY:Ocean County Columbus Day Parade
DESCRIPTION:The parade will march down the Boulevard\, creating an exciting atmosphere for families\, friends\, and visitors of all ages. \nSpectators can enjoy lively music\, colorful displays\, and community spirit as participants celebrate the rich contributions of Italian Americans. \nAfter the parade\, stay and enjoy the boardwalk\, local restaurants\, and nearby festivities happening throughout the day. \nBring your flags\, bring your family\, and join us for a day of tradition\, celebration\, and pride at the Jersey Shore! \n\nSunday\, October 11th\, 2026\, at 1:00pm on the Boulevard\nFloats\, bands\, antique cars\, contests\, clowns\, etc… \nOcean County Columbus Day Parade and Italian Festival
URL:https://oceancountytourism.com/event/ocean-county-columbus-day-parade/
LOCATION:Seaside Heights on the Blvd.\, Boulevard\, Seaside Heights\, NJ\, United States
CATEGORIES:Festivals & Family Fun
ATTACH;FMTTYPE=image/jpeg:https://oceancountytourism.com/wp-content/uploads/2026/03/columbus.jpg
ORGANIZER;CN="Ocean County Columbus Day Parade Committee":MAILTO:info@columbusnj.org
END:VEVENT
BEGIN:VEVENT
DTSTART;TZID=America/New_York:20261016T170000
DTEND;TZID=America/New_York:20261016T220000
DTSTAMP:20260425T143522
CREATED:20260121T130421Z
LAST-MODIFIED:20260217T170833Z
UID:10040926-1792170000-1792188000@oceancountytourism.com
SUMMARY:Downtown Night Out
DESCRIPTION:Downtown Toms River’s Downtown Night Out Themes \nDTNO Starts May 29th- October 17th \nFridays & Saturdays 5pm-10pm \nMay 30th – Dog’s Night Out \nAugust 8th – Princess Party \nSeptember 5th- Local Summer \nSeptember 26th – Family Fun Night \nOctober 9th – Flannel Fest \nOctober 10th – Howl-O-Ween \n#Meetmedowntown learn more at: www.downtowntomsriver.com \nemail: info@downtowntomsriver.com or call 732-341-8738 \nSponsor a theme night! Host a fundraiser\, contact the BID to learn more!
URL:https://oceancountytourism.com/event/downtown-night-out-2/2026-10-16/
LOCATION:Washington Street\, 101 Washington Street\, Toms River\, NJ\, 08753\, United States
CATEGORIES:Festivals & Family Fun,Food
ATTACH;FMTTYPE=image/jpeg:https://oceancountytourism.com/wp-content/uploads/2026/01/617499317_1463560862440822_5281405072319168570_n.jpg
END:VEVENT
BEGIN:VEVENT
DTSTART;TZID=America/New_York:20261017T110000
DTEND;TZID=America/New_York:20261017T150000
DTSTAMP:20260425T143522
CREATED:20260420T162318Z
LAST-MODIFIED:20260420T162318Z
UID:10042533-1792234800-1792249200@oceancountytourism.com
SUMMARY:Soups of the Shore
DESCRIPTION:Soups of the Shore \nSaturday October 17 \n11am – 3pm \nLavallette First Aid Building Parking Lot \nCraft vendors & live entertainment. \nTickets required\, available at the door. \nProceeds support our Scholarship Fund and summer family fun programs.
URL:https://oceancountytourism.com/event/soups-of-the-shore/
LOCATION:Lavallette First Aid Building\, 1207 Bay Boulevard\, Lavallette\, NJ\, 08735\, United States
CATEGORIES:Festivals & Family Fun,Food
ATTACH;FMTTYPE=image/jpeg:https://oceancountytourism.com/wp-content/uploads/2026/04/Event-Poster-Web-Soups.jpg
ORGANIZER;CN="Enjoy Lavallette":MAILTO:info@enjoylavallette.com
END:VEVENT
BEGIN:VEVENT
DTSTART;TZID=America/New_York:20261017T110000
DTEND;TZID=America/New_York:20261017T170000
DTSTAMP:20260425T143522
CREATED:20260121T125044Z
LAST-MODIFIED:20260217T170133Z
UID:10040850-1792234800-1792256400@oceancountytourism.com
SUMMARY:Harvest Arts Festival
DESCRIPTION:Downtown Toms River Event Calendar 2026 \nIrish Festival \nMarch 7: 12pm-6pm \nCinco De Mayo \nMay 2nd: 12pm-6pm \nDowntown Night Out \nFridays and Saturdays 5pm-10pm \nMay 29th thru October 14th \nFarmer’s Market \nWednesdays 10am-3pm \nJune 17th thru October 14th \nToms River Pride \nJune 13th 2pm-8pm \nCruisin’ Downtown \nJune 17th\, July 15th\, August 12th \n6pm-9pm Free Registration \nSummer in the Street \nJuly 18th 2pm-8pm \nComfort Food Festival \nSeptember 19th 12pm-6pm \nScarecrow Walk \nOctober 9th – 23rd \nHarvest Arts Festival \nOctober 17th 11am-5pm \nHaunted Downtown \nOctober 24th 6pm-9pm \nHalloween Parade \nOctober 31st 7pm \nSmall Business Saturday \nNovember 28th Support Local! \nTree Lighting \nDecember 4th 5:30pm-7:30pm \nWinter Wonderland \nDecember 5th 11am-4pm \n #meetmedowntown \nLearn more at www.downtowntomsriver.com
URL:https://oceancountytourism.com/event/harvest-arts-festival-2/
LOCATION:Washington Street\, 101 Washington Street\, Toms River\, NJ\, 08753\, United States
CATEGORIES:Festivals & Family Fun
ATTACH;FMTTYPE=image/jpeg:https://oceancountytourism.com/wp-content/uploads/2026/01/616154160_1463560859107489_2685808050756941033_n.jpg
END:VEVENT
BEGIN:VEVENT
DTSTART;TZID=America/New_York:20261017T170000
DTEND;TZID=America/New_York:20261017T220000
DTSTAMP:20260425T143522
CREATED:20260121T130421Z
LAST-MODIFIED:20260217T170833Z
UID:10040927-1792256400-1792274400@oceancountytourism.com
SUMMARY:Downtown Night Out
DESCRIPTION:Downtown Toms River’s Downtown Night Out Themes \nDTNO Starts May 29th- October 17th \nFridays & Saturdays 5pm-10pm \nMay 30th – Dog’s Night Out \nAugust 8th – Princess Party \nSeptember 5th- Local Summer \nSeptember 26th – Family Fun Night \nOctober 9th – Flannel Fest \nOctober 10th – Howl-O-Ween \n#Meetmedowntown learn more at: www.downtowntomsriver.com \nemail: info@downtowntomsriver.com or call 732-341-8738 \nSponsor a theme night! Host a fundraiser\, contact the BID to learn more!
URL:https://oceancountytourism.com/event/downtown-night-out-2/2026-10-17/
LOCATION:Washington Street\, 101 Washington Street\, Toms River\, NJ\, 08753\, United States
CATEGORIES:Festivals & Family Fun,Food
ATTACH;FMTTYPE=image/jpeg:https://oceancountytourism.com/wp-content/uploads/2026/01/617499317_1463560862440822_5281405072319168570_n.jpg
END:VEVENT
BEGIN:VEVENT
DTSTART;TZID=America/New_York:20261024T180000
DTEND;TZID=America/New_York:20261024T210000
DTSTAMP:20260425T143522
CREATED:20260121T124853Z
LAST-MODIFIED:20260217T165423Z
UID:10040849-1792864800-1792875600@oceancountytourism.com
SUMMARY:Haunted Downtown
DESCRIPTION:Downtown Toms River Event Calendar 2026 \nIrish Festival \nMarch 7: 12pm-6pm \nCinco De Mayo \nMay 2nd: 12pm-6pm \nDowntown Night Out \nFridays and Saturdays 5pm-10pm \nMay 29th thru October 14th \nFarmer’s Market \nWednesdays 10am-3pm \nJune 17th thru October 14th \nToms River Pride \nJune 13th 2pm-8pm \nCruisin’ Downtown \nJune 17th\, July 15th\, August 12th \n6pm-9pm Free Registration \nSummer in the Street \nJuly 18th 2pm-8pm \nComfort Food Festival \nSeptember 19th 12pm-6pm \nScarecrow Walk \nOctober 9th – 23rd \nHarvest Arts Festival \nOctober 17th 11am-5pm \nHaunted Downtown \nOctober 24th 6pm-9pm \nHalloween Parade \nOctober 31st 7pm \nSmall Business Saturday \nNovember 28th Support Local! \nTree Lighting \nDecember 4th 5:30pm-7:30pm \nWinter Wonderland \nDecember 5th 11am-4pm \n #meetmedowntown \nLearn more at www.downtowntomsriver.com
URL:https://oceancountytourism.com/event/haunted-downtown/
LOCATION:Washington Street\, 101 Washington Street\, Toms River\, NJ\, 08753\, United States
CATEGORIES:Festivals & Family Fun
ATTACH;FMTTYPE=image/jpeg:https://oceancountytourism.com/wp-content/uploads/2026/01/616154160_1463560859107489_2685808050756941033_n.jpg
END:VEVENT
BEGIN:VEVENT
DTSTART;TZID=America/New_York:20261031T190000
DTEND;TZID=America/New_York:20261031T190000
DTSTAMP:20260425T143522
CREATED:20260121T124619Z
LAST-MODIFIED:20260217T164655Z
UID:10040848-1793473200-1793473200@oceancountytourism.com
SUMMARY:Halloween Parade
DESCRIPTION:Downtown Toms River Event Calendar 2026 \nIrish Festival \nMarch 7: 12pm-6pm \nCinco De Mayo \nMay 2nd: 12pm-6pm \nDowntown Night Out \nFridays and Saturdays 5pm-10pm \nMay 29th thru October 14th \nFarmer’s Market \nWednesdays 10am-3pm \nJune 17th thru October 14th \nToms River Pride \nJune 13th 2pm-8pm \nCruisin’ Downtown \nJune 17th\, July 15th\, August 12th \n6pm-9pm Free Registration \nSummer in the Street \nJuly 18th 2pm-8pm \nComfort Food Festival \nSeptember 19th 12pm-6pm \nScarecrow Walk \nOctober 9th – 23rd \nHarvest Arts Festival \nOctober 17th 11am-5pm \nHaunted Downtown \nOctober 24th 6pm-9pm \nHalloween Parade \nOctober 31st 7pm \nSmall Business Saturday \nNovember 28th Support Local! \nTree Lighting \nDecember 4th 5:30pm-7:30pm \nWinter Wonderland \nDecember 5th 11am-4pm \n 
URL:https://oceancountytourism.com/event/halloween-parade/
LOCATION:Downtown Toms River Main Street\, Main Street\, Toms River
CATEGORIES:Festivals & Family Fun
ATTACH;FMTTYPE=image/jpeg:https://oceancountytourism.com/wp-content/uploads/2026/01/616154160_1463560859107489_2685808050756941033_n.jpg
END:VEVENT
END:VCALENDAR