BEGIN:VCALENDAR
VERSION:2.0
PRODID:-//Ocean County Tourism - ECPv6.15.18//NONSGML v1.0//EN
CALSCALE:GREGORIAN
METHOD:PUBLISH
X-ORIGINAL-URL:https://oceancountytourism.com
X-WR-CALDESC:Events for Ocean County Tourism
REFRESH-INTERVAL;VALUE=DURATION:PT1H
X-Robots-Tag:noindex
X-PUBLISHED-TTL:PT1H
BEGIN:VTIMEZONE
TZID:America/New_York
BEGIN:DAYLIGHT
TZOFFSETFROM:-0500
TZOFFSETTO:-0400
TZNAME:EDT
DTSTART:20250309T070000
END:DAYLIGHT
BEGIN:STANDARD
TZOFFSETFROM:-0400
TZOFFSETTO:-0500
TZNAME:EST
DTSTART:20251102T060000
END:STANDARD
BEGIN:DAYLIGHT
TZOFFSETFROM:-0500
TZOFFSETTO:-0400
TZNAME:EDT
DTSTART:20260308T070000
END:DAYLIGHT
BEGIN:STANDARD
TZOFFSETFROM:-0400
TZOFFSETTO:-0500
TZNAME:EST
DTSTART:20261101T060000
END:STANDARD
BEGIN:DAYLIGHT
TZOFFSETFROM:-0500
TZOFFSETTO:-0400
TZNAME:EDT
DTSTART:20270314T070000
END:DAYLIGHT
BEGIN:STANDARD
TZOFFSETFROM:-0400
TZOFFSETTO:-0500
TZNAME:EST
DTSTART:20271107T060000
END:STANDARD
END:VTIMEZONE
BEGIN:VEVENT
DTSTART;TZID=America/New_York:20260901T203000
DTEND;TZID=America/New_York:20260901T203000
DTSTAMP:20260425T110726
CREATED:20260420T152323Z
LAST-MODIFIED:20260420T152323Z
UID:10042527-1788294600-1788294600@oceancountytourism.com
SUMMARY:Movies on the Bay
DESCRIPTION:The Borough of Lavallette presents: Movies on the Bay Summer 2026 \nFree movie nights on the bayfront! \nschedule @ www.enjoylavallette.com/movies-on-the-bay \nTuesdays \nJuly 7\, July 14\, July 21\, July 28\, Aug 4\, Aug 11\, Aug 18\, Aug 25 and Sept 1.
URL:https://oceancountytourism.com/event/movies-on-the-bay/2026-09-01/
LOCATION:Lavallette Gazebo & Bayfront\, Philadelphia Avenue\, Lavallette\, NJ\, 08735\, United States
CATEGORIES:Festivals & Family Fun,Free,Movies
ATTACH;FMTTYPE=image/jpeg:https://oceancountytourism.com/wp-content/uploads/2026/04/Event-Poster-Web-Movies.jpg
ORGANIZER;CN="Enjoy Lavallette":MAILTO:info@enjoylavallette.com
END:VEVENT
BEGIN:VEVENT
DTSTART;TZID=America/New_York:20260903T170000
DTEND;TZID=America/New_York:20260903T200000
DTSTAMP:20260425T110726
CREATED:20260107T151333Z
LAST-MODIFIED:20260107T151333Z
UID:10040481-1788454800-1788465600@oceancountytourism.com
SUMMARY:Car\, Truck & Motorcycle Cruise Nights
DESCRIPTION:For more information visit: HOME | Jersey Shore Car Shows
URL:https://oceancountytourism.com/event/car-truck-motorcycle-cruise-nights/2026-09-03/
LOCATION:Adventure Crossing USA\, 515 Monmouth Rd\, Jackson\, 08527\, United States
CATEGORIES:Festivals & Family Fun,Food,Live Entertainment
ATTACH;FMTTYPE=image/jpeg:https://oceancountytourism.com/wp-content/uploads/2026/01/611937355_897106529542205_695520853748070515_n.jpg
ORGANIZER;CN="Jersey Shore Car Shows":MAILTO:info@jerseyshorecarshows.org
END:VEVENT
BEGIN:VEVENT
DTSTART;TZID=America/New_York:20260903T190000
DTEND;TZID=America/New_York:20260903T200000
DTSTAMP:20260425T110726
CREATED:20260218T122511Z
LAST-MODIFIED:20260218T122511Z
UID:10041326-1788462000-1788465600@oceancountytourism.com
SUMMARY:Eyes of the Wild Animal Show
DESCRIPTION:We’re getting WILD at the beach! \nGet ready for an unforgettable experience where fun\, laughter and learning come together in the most exciting way! \nThis high-energy\, interactive program brings you up close and personal with some of the most fascinating creatures on our planet. \nYou won’t just watch — you’ll experience the wonder firsthand! \nPerfect for kids and adults\, this one-of-a-kind event mixes comedy and jaw-dropping encounters with meaningful lessons about respecting our environment and the amazing animals that share it with us. \nIf you’re looking for something truly unique\, wildly entertaining\, and packed with “WOW!” moments for the whole family\, this is the event you won’t want to miss! \nEach night the show times are as follows: \n5:30pm\, 6:15pm and 7pm June 25th – Pavilion Beach Stage (on the beach in front of the Aquarium) \nJuly 29th – South Beach Stage (on the beach in front of the Amusement Park) \nSeptember 3rd – Pavilion Beach Stage (on the beach in front of the Aquarium) \n*Weather permitting. \nhttps://jenkinsons.com/event/eyes-of-the-wild-animal-shows-2/2026-09-03/ \ninformation@jenkinsons.com \n7328920600 \n 
URL:https://oceancountytourism.com/event/eyes-of-the-wild-animal-show-2/2026-09-03/
LOCATION:Jenkinson’s Boardwalk\, 300 Ocean Ave.\, Point Pleasant Beach\, NJ\, 08742\, United States
CATEGORIES:Festivals & Family Fun
ATTACH;FMTTYPE=image/jpeg:https://oceancountytourism.com/wp-content/uploads/2026/02/31299-EyesOfTheWild-SQ.jpg
END:VEVENT
BEGIN:VEVENT
DTSTART;TZID=America/New_York:20260904T170000
DTEND;TZID=America/New_York:20260904T220000
DTSTAMP:20260425T110726
CREATED:20260121T130421Z
LAST-MODIFIED:20260217T170833Z
UID:10040914-1788541200-1788559200@oceancountytourism.com
SUMMARY:Downtown Night Out
DESCRIPTION:Downtown Toms River’s Downtown Night Out Themes \nDTNO Starts May 29th- October 17th \nFridays & Saturdays 5pm-10pm \nMay 30th – Dog’s Night Out \nAugust 8th – Princess Party \nSeptember 5th- Local Summer \nSeptember 26th – Family Fun Night \nOctober 9th – Flannel Fest \nOctober 10th – Howl-O-Ween \n#Meetmedowntown learn more at: www.downtowntomsriver.com \nemail: info@downtowntomsriver.com or call 732-341-8738 \nSponsor a theme night! Host a fundraiser\, contact the BID to learn more!
URL:https://oceancountytourism.com/event/downtown-night-out-2/2026-09-04/
LOCATION:Washington Street\, 101 Washington Street\, Toms River\, NJ\, 08753\, United States
CATEGORIES:Festivals & Family Fun,Food
ATTACH;FMTTYPE=image/jpeg:https://oceancountytourism.com/wp-content/uploads/2026/01/617499317_1463560862440822_5281405072319168570_n.jpg
END:VEVENT
BEGIN:VEVENT
DTSTART;TZID=America/New_York:20260905T100000
DTEND;TZID=America/New_York:20260905T160000
DTSTAMP:20260425T110726
CREATED:20260316T120630Z
LAST-MODIFIED:20260316T120630Z
UID:10041720-1788602400-1788624000@oceancountytourism.com
SUMMARY:Craft Fair at Fabricated For You Craft Store
DESCRIPTION:With more than 60 outdoor booths and 30 indoor spotlight vendors\, dive into a curated selection of locally crafted treasures. \nAs you shop\, keep an eye out for your chance to win one of our gift baskets through our raffle. \nFrom delightful baked goods to charming hand-painted signs\, cozy blankets\, and one-of-a-kind handmade jewelry\, each piece is lovingly handmade. \nExplore an array of quilts\, beach essentials\, floral arrangements\, and mesmerizing resin decor. \nFind pillows\, handcrafted bags\, wallets\, totes\, paintings\, and captivating wall decor to adorn yourself and your home. \nDiscover seaglass art complemented by the enchanting glow of homemade candles\, or heirloom quality crochet items\, headbands\, keychains\, and even adorable stuffies for the little ones. \nOlder children will also enjoy the selection of dolls\, toys\, and even free face painting! \nTransform your kitchen with faux food decor\, functional resin art\, coasters\, crochet top towels\, ocean-inspired charcuterie boards\, glassware\, glassware koozies\, aprons\, even delectable offerings of a local farm\, featuring their homemade salad dressings. \nYou will find the perfect unique gifts\, from custom t-shirts and baby milestone discs to money cards\, gift baskets\, greeting cards\, wreaths\, drawings\, stained glass panels\, printed drink tumblers\, and sun catchers. \nMark your calendar for an unforgettable celebration of all things handmade! \nhttps://fabricatedforyou.com/toms-river-craft-fair-events-fabricated-for-you/ \ninfo@fabricatedforyou.com \n732-608-2040 \n2026 Craft Fairs – Parking Lot of “Fabricated For You” Craft Store on Rt 37 \nMay 23rd – 10am \nJune 27th – 10am \nSpet 5th – 10am \nNov. 14th – 10am \nRain Dates: 5/24\, 6/28\, 9/6\, 11/15
URL:https://oceancountytourism.com/event/craft-fair-at-fabricated-for-you-craft-store-2/2026-09-05/
LOCATION:Fabricated For You\, 1081 RT 37\, Toms River\, NJ\, 08759\, United States
CATEGORIES:Art,Cultural & Heritage,Festivals & Family Fun
ATTACH;FMTTYPE=image/jpeg:https://oceancountytourism.com/wp-content/uploads/2026/03/FFY-2026-fair-print-flyer-_-no-QR.jpg
END:VEVENT
BEGIN:VEVENT
DTSTART;TZID=America/New_York:20260905T110000
DTEND;TZID=America/New_York:20260905T180000
DTSTAMP:20260425T110726
CREATED:20260312T153639Z
LAST-MODIFIED:20260312T153639Z
UID:10041655-1788606000-1788631200@oceancountytourism.com
SUMMARY:Berkeley Township Food Truck & Music Festival
DESCRIPTION:Berkeley Township Food Truck & Music Festival \nLabor Day Weekend \n15 Gourmet food trucks\, adult beverage garden\, vendor shopping village\, kids’ activities and live bands. \nSept 5 11am-6pm \n$5 admission kids under 10 free \nVeterans Park 489 Bill Zimmerman Jr Way\, Bayville NJ 08721 \nwww.municipalevents.com
URL:https://oceancountytourism.com/event/berkeley-township-food-truck-music-festival-2/
LOCATION:Veterans Park Bayville\, 489 Bill Zimmerman Jr Way\, Bayville\, NJ\, 08721\, United States
CATEGORIES:Festivals & Family Fun,Food,Live Entertainment
ATTACH;FMTTYPE=image/jpeg:https://oceancountytourism.com/wp-content/uploads/2026/03/645592318_1704855230904230_3869737963355510132_n.jpg
ORGANIZER;CN="MES Event Services":MAILTO:info@municipalevents.com
END:VEVENT
BEGIN:VEVENT
DTSTART;TZID=America/New_York:20260905T170000
DTEND;TZID=America/New_York:20260905T220000
DTSTAMP:20260425T110726
CREATED:20260121T130421Z
LAST-MODIFIED:20260217T170833Z
UID:10040915-1788627600-1788645600@oceancountytourism.com
SUMMARY:Downtown Night Out
DESCRIPTION:Downtown Toms River’s Downtown Night Out Themes \nDTNO Starts May 29th- October 17th \nFridays & Saturdays 5pm-10pm \nMay 30th – Dog’s Night Out \nAugust 8th – Princess Party \nSeptember 5th- Local Summer \nSeptember 26th – Family Fun Night \nOctober 9th – Flannel Fest \nOctober 10th – Howl-O-Ween \n#Meetmedowntown learn more at: www.downtowntomsriver.com \nemail: info@downtowntomsriver.com or call 732-341-8738 \nSponsor a theme night! Host a fundraiser\, contact the BID to learn more!
URL:https://oceancountytourism.com/event/downtown-night-out-2/2026-09-05/
LOCATION:Washington Street\, 101 Washington Street\, Toms River\, NJ\, 08753\, United States
CATEGORIES:Festivals & Family Fun,Food
ATTACH;FMTTYPE=image/jpeg:https://oceancountytourism.com/wp-content/uploads/2026/01/617499317_1463560862440822_5281405072319168570_n.jpg
END:VEVENT
BEGIN:VEVENT
DTSTART;TZID=America/New_York:20260911T170000
DTEND;TZID=America/New_York:20260911T220000
DTSTAMP:20260425T110726
CREATED:20260121T130421Z
LAST-MODIFIED:20260217T170833Z
UID:10040916-1789146000-1789164000@oceancountytourism.com
SUMMARY:Downtown Night Out
DESCRIPTION:Downtown Toms River’s Downtown Night Out Themes \nDTNO Starts May 29th- October 17th \nFridays & Saturdays 5pm-10pm \nMay 30th – Dog’s Night Out \nAugust 8th – Princess Party \nSeptember 5th- Local Summer \nSeptember 26th – Family Fun Night \nOctober 9th – Flannel Fest \nOctober 10th – Howl-O-Ween \n#Meetmedowntown learn more at: www.downtowntomsriver.com \nemail: info@downtowntomsriver.com or call 732-341-8738 \nSponsor a theme night! Host a fundraiser\, contact the BID to learn more!
URL:https://oceancountytourism.com/event/downtown-night-out-2/2026-09-11/
LOCATION:Washington Street\, 101 Washington Street\, Toms River\, NJ\, 08753\, United States
CATEGORIES:Festivals & Family Fun,Food
ATTACH;FMTTYPE=image/jpeg:https://oceancountytourism.com/wp-content/uploads/2026/01/617499317_1463560862440822_5281405072319168570_n.jpg
END:VEVENT
BEGIN:VEVENT
DTSTART;TZID=America/New_York:20260912T080000
DTEND;TZID=America/New_York:20260912T160000
DTSTAMP:20260425T110726
CREATED:20260303T133630Z
LAST-MODIFIED:20260303T133630Z
UID:10041515-1789200000-1789228800@oceancountytourism.com
SUMMARY:Rescue\, Wrench\, and Ride Car\, Truck and Motorcycle Show
DESCRIPTION:In memory of Tyler Webb \nRescue\, Wrench\, and Ride \nCar\, Truck and Motorcycle Show \nDate & Location: September 12\, 2026 (Saturday) Rain Date: (September 13\, 2026\, Sunday) \nLocation: Veterans Park\, 5025 Bill Zimmerman Jr Way\, Bayville NJ \nShow Schedule: Registration 8am to 10am \nShow Time: 10am-4pm \nCustom Awards & Trophies: 2pm \nShow Highlights: Food trucks\, vendors\, live music\, RC vehicle show\, pet adoption and so much more! \nFamily and pet friendly! \nRegistration $20 per vehicle Open to all vehicles\, cars\, trucks and motorcycles! \nAll proceeds benefit the Tyler Webb Memorial Foundation \nHosted by Jersey Shore Car Shows \nFor more information visit: www.jerseyshorecarshows.com/tyler \n 
URL:https://oceancountytourism.com/event/rescue-wrench-and-ride-car-truck-and-motorcycle-show/
LOCATION:Veterans Park Bayville\, 489 Bill Zimmerman Jr Way\, Bayville\, NJ\, 08721\, United States
CATEGORIES:Festivals & Family Fun,Food,Live Entertainment
ATTACH;FMTTYPE=image/jpeg:https://oceancountytourism.com/wp-content/uploads/2026/03/644711753_940341118552079_4756772957974664631_n.jpg
ORGANIZER;CN="Jersey Shore Car Shows":MAILTO:info@jerseyshorecarshows.org
END:VEVENT
BEGIN:VEVENT
DTSTART;TZID=America/New_York:20260912T100000
DTEND;TZID=America/New_York:20260912T100000
DTSTAMP:20260425T110726
CREATED:20260406T150155Z
LAST-MODIFIED:20260406T150155Z
UID:10042263-1789207200-1789207200@oceancountytourism.com
SUMMARY:LBT's 4th Annual Cardboard Boat Regatta
DESCRIPTION:Join us for our 4th Annual Cardboard Boat Regatta! It is so much fun! \nPrizes awarded to: Divisional Winners\, Most Creative Boat and Best Sink \nSeptember 12th at Bayview Park 10:00am \nTo participate check out:https://www.longbeachtownship.com/…/4th-annual…/Or call Recreation at 609-361-6697 or email recreation@longbeachtownship.com \n 
URL:https://oceancountytourism.com/event/lbts-4th-annual-cardboard-boat-regatta/
LOCATION:Bayview Park Pavilion\, 6805 Long Beach Blvd.\, Long Beach\, NJ\, 08008\, United States
CATEGORIES:Festivals & Family Fun
ATTACH;FMTTYPE=image/png:https://oceancountytourism.com/wp-content/uploads/2026/04/Cardboard-Boat-Regatta-2026-732x1024-1.png
ORGANIZER;CN="LBT Parks & Recreation":MAILTO:recreation@longbeachtownship.com
END:VEVENT
BEGIN:VEVENT
DTSTART;TZID=America/New_York:20260912T110000
DTEND;TZID=America/New_York:20260912T170000
DTSTAMP:20260425T110726
CREATED:20260420T161926Z
LAST-MODIFIED:20260420T161926Z
UID:10042532-1789210800-1789232400@oceancountytourism.com
SUMMARY:Lavallette Founders Day
DESCRIPTION: Lavallette Founders Day is a community event organized to give back to Lavallette.  \nThis event is funded through the efforts of the Lavallette Founder‛s Day Committee members\, who solicit donations and contributions from local businesses and various other entities to provide an event that will foster unity among the residents of the community\, allowing them to celebrate themselves\, each other\, and the town within which they live. \nA family-friendly environment that provides amusements/rides\, music & entertainment\, plus a mobile gaming trailer all FREE of charge.
URL:https://oceancountytourism.com/event/lavallette-founders-day-2/
LOCATION:Lavallette Gazebo & Bayfront\, Philadelphia Avenue\, Lavallette\, NJ\, 08735\, United States
CATEGORIES:Festivals & Family Fun,Food,Live Entertainment
ATTACH;FMTTYPE=image/jpeg:https://oceancountytourism.com/wp-content/uploads/2026/04/FoundersBumper.jpg
ORGANIZER;CN="Enjoy Lavallette":MAILTO:info@enjoylavallette.com
END:VEVENT
BEGIN:VEVENT
DTSTART;TZID=America/New_York:20260912T110000
DTEND;TZID=America/New_York:20260912T190000
DTSTAMP:20260425T110726
CREATED:20260324T191802Z
LAST-MODIFIED:20260324T191802Z
UID:10041965-1789210800-1789239600@oceancountytourism.com
SUMMARY:10th Anniversary Ocean County Irish Festival
DESCRIPTION:10th Anniversary Ocean County Irish Festival \nThe Ocean County Irish Festival is proud to announce that it’s 10th Anniversary celebration will take place at a new\, expanded location: Miller Air Park home of the renowned Ocean County Fair. This milestone be held on Saturday\, September 12\, 2026 from 11am to 7pm\, promising an unforgettable of Irish Culture\, music\, food\, and community spirit. \n After a decade of success at it’s previous home in Stafford Township\, the festival’s relocation to Miller Air Park marks a major step forward. \nThe new venue offers increased space\, improved infrastructure\, and the ability to accommodate more attendees\, vendors\, and attractions than ever before. \n Festival goers can expect a full lineup of Irish music and dance\, local bands\, an expanded Irish Food Court\, a dedicated Celtic Kids Zone\, an increased number of craft and specialty vendors. Signature attractions will include the popular Super 50/50 and the highly anticipated “Truckload of Cheer” raffle. \n With its proven success at the site of the Ocean County Fair\, Miller Air Park provides the ideal setting for a large-scale celebration. \nAmple parking\, enhanced layout capabilities\, and improved crowd flow ensure a smooth and enjoyable experience for all attendees. \nFor re information\, please visit our website at www.oceancountyirishfestival.com \n 
URL:https://oceancountytourism.com/event/10th-anniversary-ocean-county-irish-festival/
LOCATION:Robert J. Miller Air Park\, Route 530\, Berkeley Township\, NJ\, 08721\, United States
CATEGORIES:Festivals & Family Fun,Food,Live Entertainment
ATTACH;FMTTYPE=image/png:https://oceancountytourism.com/wp-content/uploads/2026/03/OCIF-10thAnniversary.png
END:VEVENT
BEGIN:VEVENT
DTSTART;TZID=America/New_York:20260912T170000
DTEND;TZID=America/New_York:20260912T220000
DTSTAMP:20260425T110726
CREATED:20260121T130421Z
LAST-MODIFIED:20260217T170833Z
UID:10040917-1789232400-1789250400@oceancountytourism.com
SUMMARY:Downtown Night Out
DESCRIPTION:Downtown Toms River’s Downtown Night Out Themes \nDTNO Starts May 29th- October 17th \nFridays & Saturdays 5pm-10pm \nMay 30th – Dog’s Night Out \nAugust 8th – Princess Party \nSeptember 5th- Local Summer \nSeptember 26th – Family Fun Night \nOctober 9th – Flannel Fest \nOctober 10th – Howl-O-Ween \n#Meetmedowntown learn more at: www.downtowntomsriver.com \nemail: info@downtowntomsriver.com or call 732-341-8738 \nSponsor a theme night! Host a fundraiser\, contact the BID to learn more!
URL:https://oceancountytourism.com/event/downtown-night-out-2/2026-09-12/
LOCATION:Washington Street\, 101 Washington Street\, Toms River\, NJ\, 08753\, United States
CATEGORIES:Festivals & Family Fun,Food
ATTACH;FMTTYPE=image/jpeg:https://oceancountytourism.com/wp-content/uploads/2026/01/617499317_1463560862440822_5281405072319168570_n.jpg
END:VEVENT
BEGIN:VEVENT
DTSTART;TZID=America/New_York:20260917T170000
DTEND;TZID=America/New_York:20260917T200000
DTSTAMP:20260425T110726
CREATED:20260107T151938Z
LAST-MODIFIED:20260218T152546Z
UID:10040485-1789664400-1789675200@oceancountytourism.com
SUMMARY:Car\, Truck & Motorcycle Cruise Nights
DESCRIPTION:Car\, truck & motorcycle cruise nights \n515 Monmouth Rd Jackson NJ \n1st & 3rd Thursdays June through September 2026 \n5pm-8pm- weather permitting \nopen to all years/makes/models! \nExciting theme nights\, live music and entertainment\, awesome food & drinks and family fun for all! \nDonations accepted for The Mission Hosted by Surf Corvette Club \nSpecial Hot Rod Haunting Trunk or Treat Saturday October 10\, 2026 from 4pm-9pm \n  \nFor more information visit: HOME | Jersey Shore Car Shows
URL:https://oceancountytourism.com/event/car-truck-motorcycle-cruise-nights-2/2026-09-17/
LOCATION:Adventure Crossing USA\, 515 Monmouth Rd\, Jackson\, 08527\, United States
CATEGORIES:Festivals & Family Fun,Food,Live Entertainment
ATTACH;FMTTYPE=image/jpeg:https://oceancountytourism.com/wp-content/uploads/2026/01/611937355_897106529542205_695520853748070515_n.jpg
END:VEVENT
BEGIN:VEVENT
DTSTART;TZID=America/New_York:20260918T170000
DTEND;TZID=America/New_York:20260918T220000
DTSTAMP:20260425T110726
CREATED:20260121T130421Z
LAST-MODIFIED:20260217T170833Z
UID:10040918-1789750800-1789768800@oceancountytourism.com
SUMMARY:Downtown Night Out
DESCRIPTION:Downtown Toms River’s Downtown Night Out Themes \nDTNO Starts May 29th- October 17th \nFridays & Saturdays 5pm-10pm \nMay 30th – Dog’s Night Out \nAugust 8th – Princess Party \nSeptember 5th- Local Summer \nSeptember 26th – Family Fun Night \nOctober 9th – Flannel Fest \nOctober 10th – Howl-O-Ween \n#Meetmedowntown learn more at: www.downtowntomsriver.com \nemail: info@downtowntomsriver.com or call 732-341-8738 \nSponsor a theme night! Host a fundraiser\, contact the BID to learn more!
URL:https://oceancountytourism.com/event/downtown-night-out-2/2026-09-18/
LOCATION:Washington Street\, 101 Washington Street\, Toms River\, NJ\, 08753\, United States
CATEGORIES:Festivals & Family Fun,Food
ATTACH;FMTTYPE=image/jpeg:https://oceancountytourism.com/wp-content/uploads/2026/01/617499317_1463560862440822_5281405072319168570_n.jpg
END:VEVENT
BEGIN:VEVENT
DTSTART;TZID=America/New_York:20260919T120000
DTEND;TZID=America/New_York:20260919T180000
DTSTAMP:20260425T110726
CREATED:20260121T125721Z
LAST-MODIFIED:20260121T125721Z
UID:10040867-1789819200-1789840800@oceancountytourism.com
SUMMARY:Comfort Food Festival
DESCRIPTION:
URL:https://oceancountytourism.com/event/comfort-food-festival-2/
LOCATION:Washington Street\, 101 Washington Street\, Toms River\, NJ\, 08753\, United States
CATEGORIES:Festivals & Family Fun
ATTACH;FMTTYPE=image/jpeg:https://oceancountytourism.com/wp-content/uploads/2026/01/616154160_1463560859107489_2685808050756941033_n.jpg
END:VEVENT
BEGIN:VEVENT
DTSTART;TZID=America/New_York:20260919T170000
DTEND;TZID=America/New_York:20260919T220000
DTSTAMP:20260425T110726
CREATED:20260121T130421Z
LAST-MODIFIED:20260217T170833Z
UID:10040919-1789837200-1789855200@oceancountytourism.com
SUMMARY:Downtown Night Out
DESCRIPTION:Downtown Toms River’s Downtown Night Out Themes \nDTNO Starts May 29th- October 17th \nFridays & Saturdays 5pm-10pm \nMay 30th – Dog’s Night Out \nAugust 8th – Princess Party \nSeptember 5th- Local Summer \nSeptember 26th – Family Fun Night \nOctober 9th – Flannel Fest \nOctober 10th – Howl-O-Ween \n#Meetmedowntown learn more at: www.downtowntomsriver.com \nemail: info@downtowntomsriver.com or call 732-341-8738 \nSponsor a theme night! Host a fundraiser\, contact the BID to learn more!
URL:https://oceancountytourism.com/event/downtown-night-out-2/2026-09-19/
LOCATION:Washington Street\, 101 Washington Street\, Toms River\, NJ\, 08753\, United States
CATEGORIES:Festivals & Family Fun,Food
ATTACH;FMTTYPE=image/jpeg:https://oceancountytourism.com/wp-content/uploads/2026/01/617499317_1463560862440822_5281405072319168570_n.jpg
END:VEVENT
BEGIN:VEVENT
DTSTART;TZID=America/New_York:20260924T180000
DTEND;TZID=America/New_York:20260924T200000
DTSTAMP:20260425T110726
CREATED:20260312T125501Z
LAST-MODIFIED:20260312T125501Z
UID:10041630-1790272800-1790280000@oceancountytourism.com
SUMMARY:Bikes & Ice Cream
DESCRIPTION:Ocean County Powersports \nWe want you to join us for our bikes and ice cream night! \n6pm-8pm \nLive music\, ice cream and more! \nDates this year: 4/16\, 5/19\, 6/24\, 7/24\, 8/11 and 9/24 \nCars-trucks-bikes-autocycle-quadricycles all welcome. \nBikes & Ice Cream Nights! April 16th | Facebook
URL:https://oceancountytourism.com/event/bikes-ice-cream/2026-09-24/
LOCATION:Miss Mindy’s Ice Cream\, 155 Rt 9\, Bayville\, NJ\, 08721\, United States
CATEGORIES:Festivals & Family Fun,Food,Live Entertainment
ATTACH;FMTTYPE=image/jpeg:https://oceancountytourism.com/wp-content/uploads/2026/03/635187355_1428350239304428_6775291682927124214_n.jpg
ORGANIZER;CN="Ocean County Powersports":MAILTO:sales@oceancountypowersports.com
END:VEVENT
BEGIN:VEVENT
DTSTART;TZID=America/New_York:20260925T170000
DTEND;TZID=America/New_York:20260925T220000
DTSTAMP:20260425T110726
CREATED:20260121T130421Z
LAST-MODIFIED:20260217T170833Z
UID:10040920-1790355600-1790373600@oceancountytourism.com
SUMMARY:Downtown Night Out
DESCRIPTION:Downtown Toms River’s Downtown Night Out Themes \nDTNO Starts May 29th- October 17th \nFridays & Saturdays 5pm-10pm \nMay 30th – Dog’s Night Out \nAugust 8th – Princess Party \nSeptember 5th- Local Summer \nSeptember 26th – Family Fun Night \nOctober 9th – Flannel Fest \nOctober 10th – Howl-O-Ween \n#Meetmedowntown learn more at: www.downtowntomsriver.com \nemail: info@downtowntomsriver.com or call 732-341-8738 \nSponsor a theme night! Host a fundraiser\, contact the BID to learn more!
URL:https://oceancountytourism.com/event/downtown-night-out-2/2026-09-25/
LOCATION:Washington Street\, 101 Washington Street\, Toms River\, NJ\, 08753\, United States
CATEGORIES:Festivals & Family Fun,Food
ATTACH;FMTTYPE=image/jpeg:https://oceancountytourism.com/wp-content/uploads/2026/01/617499317_1463560862440822_5281405072319168570_n.jpg
END:VEVENT
BEGIN:VEVENT
DTSTART;TZID=America/New_York:20260926T170000
DTEND;TZID=America/New_York:20260926T220000
DTSTAMP:20260425T110726
CREATED:20260121T130421Z
LAST-MODIFIED:20260217T170833Z
UID:10040921-1790442000-1790460000@oceancountytourism.com
SUMMARY:Downtown Night Out
DESCRIPTION:Downtown Toms River’s Downtown Night Out Themes \nDTNO Starts May 29th- October 17th \nFridays & Saturdays 5pm-10pm \nMay 30th – Dog’s Night Out \nAugust 8th – Princess Party \nSeptember 5th- Local Summer \nSeptember 26th – Family Fun Night \nOctober 9th – Flannel Fest \nOctober 10th – Howl-O-Ween \n#Meetmedowntown learn more at: www.downtowntomsriver.com \nemail: info@downtowntomsriver.com or call 732-341-8738 \nSponsor a theme night! Host a fundraiser\, contact the BID to learn more!
URL:https://oceancountytourism.com/event/downtown-night-out-2/2026-09-26/
LOCATION:Washington Street\, 101 Washington Street\, Toms River\, NJ\, 08753\, United States
CATEGORIES:Festivals & Family Fun,Food
ATTACH;FMTTYPE=image/jpeg:https://oceancountytourism.com/wp-content/uploads/2026/01/617499317_1463560862440822_5281405072319168570_n.jpg
END:VEVENT
BEGIN:VEVENT
DTSTART;TZID=America/New_York:20260927T120000
DTEND;TZID=America/New_York:20260927T170000
DTSTAMP:20260425T110726
CREATED:20260417T143543Z
LAST-MODIFIED:20260417T143543Z
UID:10042477-1790510400-1790528400@oceancountytourism.com
SUMMARY:Pups & Pints
DESCRIPTION:Get ready to unleash the fun at Pups & Pints at Casino Pier — the ulti-mutt dog day on the amusement pier!\nBring your four-legged best friend for a tail-wagging celebration packed with treats\, thrills\, and tasty sips.\nStroll the boards\, snap adorable photos\, and treat your pup to a delicious doggie sundae made just for them.\nFeeling adventurous? Hop on the carousel for special dog-friendly rides and make memories that will have tails spinning with joy.\nWhile the pups indulge\, humans can kick back and enjoy $4 domestic pints as you soak in the ocean breeze and lively pier atmosphere.\nIt’s the perfect way to spend the day with your furry family member — sunshine\, sweet treats\, classic rides\, and cold drinks all in one paw-some event.\nLeashes on\, tails up — we’ll see you and your pup on the pier!\nOur Dog Day will be held from 12:00 PM to 5:00 PM\nSeptember 27\nEnjoy Carousel Rides with your pup *only on the chariot*$4 Domestic Pints at Pier Pub\, Surf Bar & Waves BarSpecial $29 Unlimited Ride Wristband! (Excludes Go-Karts\, Skyscraper\, Sky Ride & SkyCoaster)$3 Doggy Sundaes at Mrs. C’s Waffles & Ice Cream\nRemember to adhere to guidelines\, including ensuring well-behaved dogs\, cleaning up after them\, and utilizing the designated doggie restrooms located near the Pier Pub.
URL:https://oceancountytourism.com/event/pups-pints-4/
LOCATION:Casino Pier & Breakwater Beach\, 800 Ocean Terrace\, Seaside Heights\, NJ\, 08751\, United States
CATEGORIES:Festivals & Family Fun
ATTACH;FMTTYPE=image/jpeg:https://oceancountytourism.com/wp-content/uploads/2026/04/672681396_1411225584383507_7702630195804101963_n.jpg
END:VEVENT
END:VCALENDAR