BEGIN:VCALENDAR
VERSION:2.0
PRODID:-//Ocean County Tourism - ECPv6.15.18//NONSGML v1.0//EN
CALSCALE:GREGORIAN
METHOD:PUBLISH
X-ORIGINAL-URL:https://oceancountytourism.com
X-WR-CALDESC:Events for Ocean County Tourism
REFRESH-INTERVAL;VALUE=DURATION:PT1H
X-Robots-Tag:noindex
X-PUBLISHED-TTL:PT1H
BEGIN:VTIMEZONE
TZID:America/New_York
BEGIN:DAYLIGHT
TZOFFSETFROM:-0500
TZOFFSETTO:-0400
TZNAME:EDT
DTSTART:20250309T070000
END:DAYLIGHT
BEGIN:STANDARD
TZOFFSETFROM:-0400
TZOFFSETTO:-0500
TZNAME:EST
DTSTART:20251102T060000
END:STANDARD
BEGIN:DAYLIGHT
TZOFFSETFROM:-0500
TZOFFSETTO:-0400
TZNAME:EDT
DTSTART:20260308T070000
END:DAYLIGHT
BEGIN:STANDARD
TZOFFSETFROM:-0400
TZOFFSETTO:-0500
TZNAME:EST
DTSTART:20261101T060000
END:STANDARD
BEGIN:DAYLIGHT
TZOFFSETFROM:-0500
TZOFFSETTO:-0400
TZNAME:EDT
DTSTART:20270314T070000
END:DAYLIGHT
BEGIN:STANDARD
TZOFFSETFROM:-0400
TZOFFSETTO:-0500
TZNAME:EST
DTSTART:20271107T060000
END:STANDARD
END:VTIMEZONE
BEGIN:VEVENT
DTSTART;TZID=America/New_York:20261017T123000
DTEND;TZID=America/New_York:20261017T140000
DTSTAMP:20260422T210043
CREATED:20260420T112821Z
LAST-MODIFIED:20260420T112821Z
UID:10042489-1792240200-1792245600@oceancountytourism.com
SUMMARY:Mastering the Art of Framing with Diane Israel
DESCRIPTION:Saturday October 17\, 2026 \n12:30 PM – 2:00 PM \n$20.00 \nTips and Tricks for Framing your Artwork Join us in a two-hour class about the ins and outs of how to best present your art. \nDiane Israel\, a board member\, who for twenty-eight years had an art gallery in Montclair\, will guide you to better framing your art. \nIn this class you will learn \nWhat glazing to use that will not harm your artwork. \n\nWhat mat boards to use for art preservation ● Mat or not to mat\, that is the question ● Picking out mat colors for maximum enhancement ● Finding the perfect frame ● Proper hardware for hanging ● Choosing DYI or professional framing ● Maintaining the personality of the artwork\n\nThe class will include handouts but is not an interactive event. \nThe class will be followed by a question and answer period. \nCircle the date of Saturday\, April 4th from 12:30 to 2PM for your class in framing. \nA fee of $20 will be charged for the class with partial proceeds going to OCAG. \nSee you at the Guild! \nhttps://www.ocartistsguild.org/event/mastering-the-art-of-framing-with-diane-israel-2/ \ninfo@ocartistsguild.org \n732-270-3111
URL:https://oceancountytourism.com/event/mastering-the-art-of-framing-with-diane-israel-2/
LOCATION:Ocean County Artists Guild\, 22 Chestnut Avenue\, Island Heights\, NJ\, 08732\, United States
CATEGORIES:Art,Cultural & Heritage
ATTACH;FMTTYPE=image/jpeg:https://oceancountytourism.com/wp-content/uploads/2026/01/OCAGPrimary-Color-Logo@2x-100.jpg
END:VEVENT
END:VCALENDAR