BEGIN:VCALENDAR
VERSION:2.0
PRODID:-//Ocean County Tourism - ECPv6.15.18//NONSGML v1.0//EN
CALSCALE:GREGORIAN
METHOD:PUBLISH
X-ORIGINAL-URL:https://oceancountytourism.com
X-WR-CALDESC:Events for Ocean County Tourism
REFRESH-INTERVAL;VALUE=DURATION:PT1H
X-Robots-Tag:noindex
X-PUBLISHED-TTL:PT1H
BEGIN:VTIMEZONE
TZID:America/New_York
BEGIN:DAYLIGHT
TZOFFSETFROM:-0500
TZOFFSETTO:-0400
TZNAME:EDT
DTSTART:20250309T070000
END:DAYLIGHT
BEGIN:STANDARD
TZOFFSETFROM:-0400
TZOFFSETTO:-0500
TZNAME:EST
DTSTART:20251102T060000
END:STANDARD
BEGIN:DAYLIGHT
TZOFFSETFROM:-0500
TZOFFSETTO:-0400
TZNAME:EDT
DTSTART:20260308T070000
END:DAYLIGHT
BEGIN:STANDARD
TZOFFSETFROM:-0400
TZOFFSETTO:-0500
TZNAME:EST
DTSTART:20261101T060000
END:STANDARD
BEGIN:DAYLIGHT
TZOFFSETFROM:-0500
TZOFFSETTO:-0400
TZNAME:EDT
DTSTART:20270314T070000
END:DAYLIGHT
BEGIN:STANDARD
TZOFFSETFROM:-0400
TZOFFSETTO:-0500
TZNAME:EST
DTSTART:20271107T060000
END:STANDARD
END:VTIMEZONE
BEGIN:VEVENT
DTSTART;TZID=America/New_York:20261116T090000
DTEND;TZID=America/New_York:20261116T150000
DTSTAMP:20260420T120000
CREATED:20260413T113815Z
LAST-MODIFIED:20260413T113815Z
UID:10042384-1794819600-1794841200@oceancountytourism.com
SUMMARY:Collage Winter Landscapes into Holiday Greeting Cards
DESCRIPTION:Turn “oops” watercolor paintings and paper scraps into charming holiday greetings in this one-day collage workshop. \nUsing torn-paper techniques\, students will learn the fundamentals of collage while upcycling watercolor remnants into fresh landscape and forest scenes. \nCreate a set of four 5″ x 7″ greeting cards—make each design unique or work in a coordinated series. \nTheme prompts focus on trees and landscapes\, and sample projects will be available for inspiration. \nCollages will be mounted on provided cards for frameable mini works of art. Add an optional calligraphic message inside or leave them blank for gifting. \nTuition:  $55 (member)/ $65 (Non_member) \nhttp://www.pineshoresartassociation.org \neducation@pineshoresartassociation.org \n6095973557 \n 
URL:https://oceancountytourism.com/event/collage-winter-landscapes-into-holiday-greeting-cards/
LOCATION:Pine Shores Art Association\, 94 Stafford Avenue\, Stafford\, NJ\, 08050\, United States
CATEGORIES:Art,Cultural & Heritage
ATTACH;FMTTYPE=image/jpeg:https://oceancountytourism.com/wp-content/uploads/2026/04/collage-winter-landscapes-002.jpg
END:VEVENT
END:VCALENDAR