BEGIN:VCALENDAR
VERSION:2.0
PRODID:-//Ocean County Tourism - ECPv6.15.18//NONSGML v1.0//EN
CALSCALE:GREGORIAN
METHOD:PUBLISH
X-ORIGINAL-URL:https://oceancountytourism.com
X-WR-CALDESC:Events for Ocean County Tourism
REFRESH-INTERVAL;VALUE=DURATION:PT1H
X-Robots-Tag:noindex
X-PUBLISHED-TTL:PT1H
BEGIN:VTIMEZONE
TZID:America/New_York
BEGIN:DAYLIGHT
TZOFFSETFROM:-0500
TZOFFSETTO:-0400
TZNAME:EDT
DTSTART:20250309T070000
END:DAYLIGHT
BEGIN:STANDARD
TZOFFSETFROM:-0400
TZOFFSETTO:-0500
TZNAME:EST
DTSTART:20251102T060000
END:STANDARD
BEGIN:DAYLIGHT
TZOFFSETFROM:-0500
TZOFFSETTO:-0400
TZNAME:EDT
DTSTART:20260308T070000
END:DAYLIGHT
BEGIN:STANDARD
TZOFFSETFROM:-0400
TZOFFSETTO:-0500
TZNAME:EST
DTSTART:20261101T060000
END:STANDARD
BEGIN:DAYLIGHT
TZOFFSETFROM:-0500
TZOFFSETTO:-0400
TZNAME:EDT
DTSTART:20270314T070000
END:DAYLIGHT
BEGIN:STANDARD
TZOFFSETFROM:-0400
TZOFFSETTO:-0500
TZNAME:EST
DTSTART:20271107T060000
END:STANDARD
END:VTIMEZONE
BEGIN:VEVENT
DTSTART;TZID=America/New_York:20261007T140000
DTEND;TZID=America/New_York:20261007T140000
DTSTAMP:20260419T150255
CREATED:20251218T171254Z
LAST-MODIFIED:20260217T171344Z
UID:10040278-1791381600-1791381600@oceancountytourism.com
SUMMARY:Deceived
DESCRIPTION:Deceived\, based on the original play Gaslight\, is a psychological thriller that will leave audiences on the edge of their seat. \nA suspense-filled storyline\, Deceived delves into the depths of manipulation\, deception\, and paranoia as it delivers a chilling outcome that you won’t soon forget. \nBella Manningham thinks she’s losing her mind. \nIn the evenings\, she hears strange sounds and the gaslights dim for no apparent reason. \nBut is she losing her grip on reason\, or is it being loosened for her? Will the gaslight have its intended\, murderous\, effect? \nhttps://surflight.org/ \ninfo@surflight.org \n609-492-9477
URL:https://oceancountytourism.com/event/deceived/2026-10-07/1/
LOCATION:Surflight Theatre\, 201 Engleside Ave.\, Beach Haven\, NJ\, 08008\, United States
CATEGORIES:Theatre
ATTACH;FMTTYPE=image/png:https://oceancountytourism.com/wp-content/uploads/2025/12/Deceived-Logo-Square.png
END:VEVENT
BEGIN:VEVENT
DTSTART;TZID=America/New_York:20261007T160000
DTEND;TZID=America/New_York:20261007T171500
DTSTAMP:20260419T150255
CREATED:20260408T114313Z
LAST-MODIFIED:20260408T114313Z
UID:10042335-1791388800-1791393300@oceancountytourism.com
SUMMARY:October Children's Classes with Miss Alison Wednesday
DESCRIPTION:October Wednesday Sessions \nOctober 7 – Turning Leaves \nOctober 14 – Halloween Hoot Owl \nOctober 21 – Pumpkin Faces \nOctober 28 – Candy Rainbow \n4:00PM – 5:15PM \n$100 members $125 non-members \nDrop in’s welcome \n$25/session for members $35/session for non-members \nEach class is a journey into the world of colors and imagination\, where young artists are guided to create a new painting every week. \nThese sessions are designed to be fun and educational\, helping kids explore different painting techniques\, styles and themes. \nIt’s a fantastic way for children to express themselves\, develop their artistic skills\, and build confidence in their creativity. \nPlus\, they get to take home a unique masterpiece after each class! \nhttps://www.ocartistsguild.org/event/october-childrens-classes-with-miss-alison-wednesday/ \ninfo@ocartistsguild.org \n732-270-3111
URL:https://oceancountytourism.com/event/october-childrens-classes-with-miss-alison-wednesday/2026-10-07/
LOCATION:Ocean County Artists Guild\, 22 Chestnut Avenue\, Island Heights\, NJ\, 08732\, United States
CATEGORIES:Art,Cultural & Heritage
ATTACH;FMTTYPE=image/jpeg:https://oceancountytourism.com/wp-content/uploads/2026/01/OCAGPrimary-Color-Logo@2x-100.jpg
END:VEVENT
END:VCALENDAR