BEGIN:VCALENDAR
VERSION:2.0
PRODID:-//Ocean County Tourism - ECPv6.15.18//NONSGML v1.0//EN
CALSCALE:GREGORIAN
METHOD:PUBLISH
X-ORIGINAL-URL:https://oceancountytourism.com
X-WR-CALDESC:Events for Ocean County Tourism
REFRESH-INTERVAL;VALUE=DURATION:PT1H
X-Robots-Tag:noindex
X-PUBLISHED-TTL:PT1H
BEGIN:VTIMEZONE
TZID:America/New_York
BEGIN:DAYLIGHT
TZOFFSETFROM:-0500
TZOFFSETTO:-0400
TZNAME:EDT
DTSTART:20250309T070000
END:DAYLIGHT
BEGIN:STANDARD
TZOFFSETFROM:-0400
TZOFFSETTO:-0500
TZNAME:EST
DTSTART:20251102T060000
END:STANDARD
BEGIN:DAYLIGHT
TZOFFSETFROM:-0500
TZOFFSETTO:-0400
TZNAME:EDT
DTSTART:20260308T070000
END:DAYLIGHT
BEGIN:STANDARD
TZOFFSETFROM:-0400
TZOFFSETTO:-0500
TZNAME:EST
DTSTART:20261101T060000
END:STANDARD
BEGIN:DAYLIGHT
TZOFFSETFROM:-0500
TZOFFSETTO:-0400
TZNAME:EDT
DTSTART:20270314T070000
END:DAYLIGHT
BEGIN:STANDARD
TZOFFSETFROM:-0400
TZOFFSETTO:-0500
TZNAME:EST
DTSTART:20271107T060000
END:STANDARD
END:VTIMEZONE
BEGIN:VEVENT
DTSTART;TZID=America/New_York:20261006T100000
DTEND;TZID=America/New_York:20261006T120000
DTSTAMP:20260419T150215
CREATED:20260413T191510Z
LAST-MODIFIED:20260413T191510Z
UID:10042428-1791280800-1791288000@oceancountytourism.com
SUMMARY:Oil Painting Class:  All Levels with Debra Kurtz Tuesday Mornings
DESCRIPTION:10:00 AM – 12:00 PM \n$180 members $230 non members \n10/6\, 10/13\, 10/20\, 10/27\, 11/3\, 11/10 \nLeonardo Da Vinci once said\, “The artist sees what others only catch a glimpse of.” \nIn this class we will be enjoying the process of creating an oil Painting from your photos of a landscape or still-life of your choice while developing and enhancing your oil Painting skills and compositions.  Please bring to class a selection of your favorite photos in addition to your canvas and oil painting materials. \nhttps://www.ocartistsguild.org/event/oil-painting-class-all-levels-with-debra-kurtz/ \ninfo@ocartistsguild.org \n732-270-3111
URL:https://oceancountytourism.com/event/oil-painting-class-all-levels-with-debra-kurtz-tuesday-mornings/2026-10-06/
LOCATION:Ocean County Artists Guild\, 22 Chestnut Avenue\, Island Heights\, NJ\, 08732\, United States
CATEGORIES:Art,Cultural & Heritage
ATTACH;FMTTYPE=image/jpeg:https://oceancountytourism.com/wp-content/uploads/2026/01/OCAGPrimary-Color-Logo@2x-100.jpg
END:VEVENT
BEGIN:VEVENT
DTSTART;TZID=America/New_York:20261006T160000
DTEND;TZID=America/New_York:20261006T171500
DTSTAMP:20260419T150215
CREATED:20260408T114811Z
LAST-MODIFIED:20260408T114811Z
UID:10042339-1791302400-1791306900@oceancountytourism.com
SUMMARY:October Children's Classes with Miss Alison Tuesday
DESCRIPTION:October Tuesday Sessions \nOctober 6 – Turning Leaves \nOctober 13 – Halloween Hoot Owl \nOctober 20 – Pumpkin Faces \nOctober 27 – Candy Rainbow \n4:00PM – 5:15PM \n$100 members $125 non-members \nDrop in’s welcome \n$25/session for members $35/session for non-members \nEach class is a journey into the world of colors and imagination\, where young artists are guided to create a new painting every week. \nThese sessions are designed to be fun and educational\, helping kids explore different painting techniques\, styles and themes. \nIt’s a fantastic way for children to express themselves\, develop their artistic skills\, and build confidence in their creativity. \nPlus\, they get to take home a unique masterpiece after each class! \nhttps://www.ocartistsguild.org/event/october-childrens-classes-with-miss-alion-tuesday/ \ninfo@ocartistsguild.org \n732-270-3111
URL:https://oceancountytourism.com/event/october-childrens-classes-with-miss-alison-tuesday/2026-10-06/
LOCATION:Ocean County Artists Guild\, 22 Chestnut Avenue\, Island Heights\, NJ\, 08732\, United States
CATEGORIES:Art,Cultural & Heritage
ATTACH;FMTTYPE=image/jpeg:https://oceancountytourism.com/wp-content/uploads/2026/01/OCAGPrimary-Color-Logo@2x-100.jpg
END:VEVENT
END:VCALENDAR