BEGIN:VCALENDAR
VERSION:2.0
PRODID:-//Ocean County Tourism - ECPv6.15.18//NONSGML v1.0//EN
CALSCALE:GREGORIAN
METHOD:PUBLISH
X-WR-CALNAME:Ocean County Tourism
X-ORIGINAL-URL:https://oceancountytourism.com
X-WR-CALDESC:Events for Ocean County Tourism
REFRESH-INTERVAL;VALUE=DURATION:PT1H
X-Robots-Tag:noindex
X-PUBLISHED-TTL:PT1H
BEGIN:VTIMEZONE
TZID:America/New_York
BEGIN:DAYLIGHT
TZOFFSETFROM:-0500
TZOFFSETTO:-0400
TZNAME:EDT
DTSTART:20250309T070000
END:DAYLIGHT
BEGIN:STANDARD
TZOFFSETFROM:-0400
TZOFFSETTO:-0500
TZNAME:EST
DTSTART:20251102T060000
END:STANDARD
BEGIN:DAYLIGHT
TZOFFSETFROM:-0500
TZOFFSETTO:-0400
TZNAME:EDT
DTSTART:20260308T070000
END:DAYLIGHT
BEGIN:STANDARD
TZOFFSETFROM:-0400
TZOFFSETTO:-0500
TZNAME:EST
DTSTART:20261101T060000
END:STANDARD
BEGIN:DAYLIGHT
TZOFFSETFROM:-0500
TZOFFSETTO:-0400
TZNAME:EDT
DTSTART:20270314T070000
END:DAYLIGHT
BEGIN:STANDARD
TZOFFSETFROM:-0400
TZOFFSETTO:-0500
TZNAME:EST
DTSTART:20271107T060000
END:STANDARD
END:VTIMEZONE
BEGIN:VEVENT
DTSTART;TZID=America/New_York:20260911T090000
DTEND;TZID=America/New_York:20260911T090000
DTSTAMP:20260422T181053
CREATED:20260406T191037Z
LAST-MODIFIED:20260406T191037Z
UID:10042297-1789117200-1789117200@oceancountytourism.com
SUMMARY:9/11 Remembrance Ceremony
DESCRIPTION:Annual 9/11 Remembrance Ceremony hosted for the Plumsted community and others attending will “Never Forget” the fateful events that transpired on September 11th\, 2001. \nTolling of a ceremonial bell is performed at the precise times two different commercial airlines struck the World Trade Center’s Twin Towers in New York City. \nShort passages are read aloud by local high school students\, this year accompanied by the New Egypt Town Band. \nplumsted.org
URL:https://oceancountytourism.com/event/9-11-remembrance-ceremony/
LOCATION:Plumsted Township\, 121 Evergreen Rd\, New Egypt\, 08533\, United States
ATTACH;FMTTYPE=image/jpeg:https://oceancountytourism.com/wp-content/uploads/2026/04/Flag911-scaled.jpg
END:VEVENT
BEGIN:VEVENT
DTSTART;TZID=America/New_York:20260911T180000
DTEND;TZID=America/New_York:20260911T180000
DTSTAMP:20260422T181053
CREATED:20251218T163405Z
LAST-MODIFIED:20251218T163405Z
UID:10040244-1789149600-1789149600@oceancountytourism.com
SUMMARY:An Evening with Groucho
DESCRIPTION:Dubbed “nothing short of masterful” by the Chicago Tribune\, award-winning actor Frank Ferrante recreates his PBS\, \nNew York and London acclaimed stage portrayal of legendary comedian in this fast paced 90 minutes of hilarity. \nThe two-act comedy consists of the best Groucho one-liners\, anecdotes and songs including “Hooray for Captain Spalding\,” and “Lydia\, the Tattooed Lady.” \nThe audience literally becomes part of the show as Ferrante ad-libs his way throughout the performance in grand Groucho style. \nAccompanied by his onstage pianist\, Ferrante portrays the young Groucho of stage and film and reacquaints us with the likes of brothers Harpo\, Chico\, Zeppo and Gummo\, Charlie Chaplin\, W.C. Fields and Marx foil Margaret Dumont. A show perfect for all ages! \n\nhttps://surflight.org/ \ninfo@surflight.org \n609-492-9477
URL:https://oceancountytourism.com/event/an-evening-with-groucho/
LOCATION:Surflight Theatre\, 201 Engleside Ave.\, Beach Haven\, NJ\, 08008\, United States
CATEGORIES:Theatre
ATTACH;FMTTYPE=image/png:https://oceancountytourism.com/wp-content/uploads/2025/12/groucho.png
END:VEVENT
END:VCALENDAR