BEGIN:VCALENDAR
VERSION:2.0
PRODID:-//Ocean County Tourism - ECPv6.15.18//NONSGML v1.0//EN
CALSCALE:GREGORIAN
METHOD:PUBLISH
X-ORIGINAL-URL:https://oceancountytourism.com
X-WR-CALDESC:Events for Ocean County Tourism
REFRESH-INTERVAL;VALUE=DURATION:PT1H
X-Robots-Tag:noindex
X-PUBLISHED-TTL:PT1H
BEGIN:VTIMEZONE
TZID:America/New_York
BEGIN:DAYLIGHT
TZOFFSETFROM:-0500
TZOFFSETTO:-0400
TZNAME:EDT
DTSTART:20250309T070000
END:DAYLIGHT
BEGIN:STANDARD
TZOFFSETFROM:-0400
TZOFFSETTO:-0500
TZNAME:EST
DTSTART:20251102T060000
END:STANDARD
BEGIN:DAYLIGHT
TZOFFSETFROM:-0500
TZOFFSETTO:-0400
TZNAME:EDT
DTSTART:20260308T070000
END:DAYLIGHT
BEGIN:STANDARD
TZOFFSETFROM:-0400
TZOFFSETTO:-0500
TZNAME:EST
DTSTART:20261101T060000
END:STANDARD
BEGIN:DAYLIGHT
TZOFFSETFROM:-0500
TZOFFSETTO:-0400
TZNAME:EDT
DTSTART:20270314T070000
END:DAYLIGHT
BEGIN:STANDARD
TZOFFSETFROM:-0400
TZOFFSETTO:-0500
TZNAME:EST
DTSTART:20271107T060000
END:STANDARD
END:VTIMEZONE
BEGIN:VEVENT
DTSTART;TZID=America/New_York:20260829T120000
DTEND;TZID=America/New_York:20260829T230000
DTSTAMP:20260425T153031
CREATED:20260326T190235Z
LAST-MODIFIED:20260326T190235Z
UID:10042114-1788004800-1788044400@oceancountytourism.com
SUMMARY:LBI ParaCon - A Paranormal and Psychic Expo
DESCRIPTION:LBI ParaCon – A Paranormal and Psychic Expo The day will be filled with paranormal and psychic information and experiences. \nGeneral admission -$25 will include a vendor mart\, medium and tarot card readings( for an additional price)\, and a very special haunted object display in the museum. \nA series of speakers will be available to attend in the Fisherman’s Cottage running all afternoon. \nDuring the evening (not included in general admission) a VIP Paranormal Investigation experience of two sites will be conducted by two different investigating teams. \nFor $75 ticket holders will be invited to join a sensitivity circle\, learn to use ghost hunting equipment and will be hands on with investing two sites with two different paranormal investigating teams. \nA truly once in a lifetime VIP EXPERIENCE!!
URL:https://oceancountytourism.com/event/lbi-paracon-a-paranormal-and-psychic-expo/
LOCATION:Long Beach Island Historical Association Museum\, 129 Engleside Ave.\, Beach Haven\, NJ\, 08008\, United States
CATEGORIES:Cultural & Heritage,History
ATTACH;FMTTYPE=image/jpeg:https://oceancountytourism.com/wp-content/uploads/2022/04/icon-history.jpg
END:VEVENT
END:VCALENDAR