BEGIN:VCALENDAR
VERSION:2.0
PRODID:-//Ocean County Tourism - ECPv6.15.18//NONSGML v1.0//EN
CALSCALE:GREGORIAN
METHOD:PUBLISH
X-ORIGINAL-URL:https://oceancountytourism.com
X-WR-CALDESC:Events for Ocean County Tourism
REFRESH-INTERVAL;VALUE=DURATION:PT1H
X-Robots-Tag:noindex
X-PUBLISHED-TTL:PT1H
BEGIN:VTIMEZONE
TZID:America/New_York
BEGIN:DAYLIGHT
TZOFFSETFROM:-0500
TZOFFSETTO:-0400
TZNAME:EDT
DTSTART:20250309T070000
END:DAYLIGHT
BEGIN:STANDARD
TZOFFSETFROM:-0400
TZOFFSETTO:-0500
TZNAME:EST
DTSTART:20251102T060000
END:STANDARD
BEGIN:DAYLIGHT
TZOFFSETFROM:-0500
TZOFFSETTO:-0400
TZNAME:EDT
DTSTART:20260308T070000
END:DAYLIGHT
BEGIN:STANDARD
TZOFFSETFROM:-0400
TZOFFSETTO:-0500
TZNAME:EST
DTSTART:20261101T060000
END:STANDARD
BEGIN:DAYLIGHT
TZOFFSETFROM:-0500
TZOFFSETTO:-0400
TZNAME:EDT
DTSTART:20270314T070000
END:DAYLIGHT
BEGIN:STANDARD
TZOFFSETFROM:-0400
TZOFFSETTO:-0500
TZNAME:EST
DTSTART:20271107T060000
END:STANDARD
END:VTIMEZONE
BEGIN:VEVENT
DTSTART;TZID=America/New_York:20260713T123000
DTEND;TZID=America/New_York:20260713T143000
DTSTAMP:20260421T024403
CREATED:20260331T173638Z
LAST-MODIFIED:20260331T173638Z
UID:10042194-1783945800-1783953000@oceancountytourism.com
SUMMARY:Peto's Art Camp 4 Kids
DESCRIPTION:Peto’s Art Camp 4 Kids is back for the fifth year in a row! \nWe are offering our spectacular hands-on applied summer art program for kids ages 7 – 12! \nTaught by Ms. Nancy Corsaro\, a certified art teacher with over 25 years of experience teaching art to children from preschool through sixth grade. \nCAMP DETAILS \nCost: $150 per session* \nAges:  7 – 12 \nLocation:  John F. Peto Studio Museum | 102 Cedar Avenue | Island Heights\, NJ 08732 *Includes a gallery exhibition of student’s work on the following Saturday \nStudents will be provided with all materials; including an art smock. \nIf you wish\, please provide your child with a light snack and drink. \nEach Peto’s Art Camp session will conclude on the following Saturday with a gallery exhibition of the student’s work in the Peto garden. \nParents\, siblings\, family\, and community members will be invited to attend free of charge. \nStudents can be registered for and attend more than one session.  If you have any questions\, please call at 732-929-4949 or email info@petomuseum.org \nhttps://petomuseum.org/petos-art-camp/ \n7329294949
URL:https://oceancountytourism.com/event/petos-art-camp-4-kids/2026-07-13/
LOCATION:John F. Peto Studio Museum\, 102 Cedar Ave.\, Island Heights\, NJ\, 08732\, United States
CATEGORIES:Art,Cultural & Heritage
ATTACH;FMTTYPE=image/png:https://oceancountytourism.com/wp-content/uploads/2026/03/Petos-Art-Camp-Logo-NEW-1.png
END:VEVENT
BEGIN:VEVENT
DTSTART;TZID=America/New_York:20260713T140000
DTEND;TZID=America/New_York:20260713T170000
DTSTAMP:20260421T024403
CREATED:20260406T181003Z
LAST-MODIFIED:20260406T181003Z
UID:10042279-1783951200-1783962000@oceancountytourism.com
SUMMARY:Character Meet & Greets + Face Painting
DESCRIPTION:Join us for Character Meet & Greet Mondays\, where your favorite characters step off the screen and onto the pier for an unforgettable day of fun.\nBring the whole family to snap FREE photos\, and create memories that will last long after the rides stop spinning.\nLittle ones can also enjoy FREE face painting\, transforming into their favorite characters\, animals\, or colorful creations before heading off to explore the pier.\nIt’s the perfect way to kick off the week — smiles\, laughter\, and plenty of picture-perfect moments by the shore.\nCome early\, bring your camera\, and get ready for a Monday filled with magic on the pier!\n\nCharacter Meet & Greets located by the Ferris Wheel\, 2pm-4pm\nFace Painting located by the Arcade Doors near Surf Stop & Go\, 2pm-4pm\n\nJune 29: Toy Cowboy\, Toy Ranger & CowgirlJuly 6: Yellow GuysJuly 13: Island Princess & Island DemiGodJuly 20: HedgehogsJuly 27: Spider HeroesAugust 3: Safari Mr & Mrs MouseAugust 10: Pink Patrol Pup & Blue Patrol PupAugust 17: Australian PupsAugust 24: Hawaiian Girl & Blue AlienAugust 31: Turtles\n\nPLUS Mondays are HALF OFF Rides from 1pm-6pmCredits are HALF priced AT the Rides. Excludes Go-Karts\, Skyscraper\, Sky Ride & SkyCoaster\nPLUS Mondays are HALF OFF Pizzas from 1pm-6pmCheese Pizza Slices & Cheese Pizza Pies!
URL:https://oceancountytourism.com/event/character-meet-greets-face-painting-4/
LOCATION:Casino Pier & Breakwater Beach\, 800 Ocean Terrace\, Seaside Heights\, NJ\, 08751\, United States
CATEGORIES:Festivals & Family Fun
ATTACH;FMTTYPE=image/jpeg:https://oceancountytourism.com/wp-content/uploads/2026/04/658211187_1397379155768150_6131782465499268286_n.jpg
END:VEVENT
BEGIN:VEVENT
DTSTART;TZID=America/New_York:20260713T170000
DTEND;TZID=America/New_York:20260713T170000
DTSTAMP:20260421T024403
CREATED:20251218T165249Z
LAST-MODIFIED:20260218T172057Z
UID:10040248-1783962000-1783962000@oceancountytourism.com
SUMMARY:Just Sixties
DESCRIPTION:Since their formation in 1982\, JUST SIXTIES has played at top clubs and has been the opening act for Paul Revere and the Raiders\, Felix Cavaliere’s Rascals and Jay and the Americans. \nTheir repertoire includes the ultimate cross-section of Sixties music from “Yummy\, Yummy\, Yummy” to Jimi Hendrix’ “Fire\,” including many one-hit wonders. \nYou’ll hear authentic renditions of the timeless classics from The Beatles\, The Beach Boys\, The Doors\, The Rolling Stones\, Janis Joplin\, The Monkees\, and so much more. \nhttps://surflight.org/ \ninfo@surflight.org \n609-492-9477
URL:https://oceancountytourism.com/event/just-sixties/2026-07-13/1/
LOCATION:Surflight Theatre\, 201 Engleside Ave.\, Beach Haven\, NJ\, 08008\, United States
CATEGORIES:Theatre
ATTACH;FMTTYPE=image/jpeg:https://oceancountytourism.com/wp-content/uploads/2025/12/justsixties-logo-rev_orig-002.jpg
END:VEVENT
BEGIN:VEVENT
DTSTART;TZID=America/New_York:20260713T170000
DTEND;TZID=America/New_York:20260713T180000
DTSTAMP:20260421T024403
CREATED:20260106T125658Z
LAST-MODIFIED:20260218T172451Z
UID:10040464-1783962000-1783965600@oceancountytourism.com
SUMMARY:NJ Boat Safety Exam in Toms River\, NJ
DESCRIPTION:Toms River Elks \n600 Washington Street\, Toms River\, NJ  08753 Ocean County Monday\, 7/13/2026 5:00pm to 6:00pm \nTake the online course with www.Recademics.com\, www.AceBoater.com\,  www.boat-ed.com or www.boaterexam.com    And then join Boat Safe US for the required proctored exam. \nA NJSP-issued boat safety certificate is required to operate a motorized vessel in NJ.  To operate a powered vessel in the state of New Jersey\, people are required to take a NJ State Police approved boating safety course and pass the proctored exam. This includes all motorized vessels\, like boats\, jet skis and includes electric trolling motors. \nPlease register at www.BoatSafeUS.com      See our complete schedule on our website! \nOnce you have registered\, we will send you the session information as well as a link to a final review\, to help jog your memory! \nWe are certified by the New Jersey State Police and NASBLA to provide NJ Boat Safety Certification classes and exams. \nAlso included: \n*Capt Bob’s exam video review – watch at your leisure and as often as you like. \n*Lifetime support from the Boat Safe US team of experts. \nUpon successful completion of the exam\, students will receive a lifetime Boating Safety Certificate issued by the NJ State Police Marine Services Division that is NASBLA certified. Instructors are USCG Licensed Captains. \nExam@BoatSafeUS.com \nwww.BoatSafeUS.com \nExam provided by Boat Safe US\, LLC! \n609-613-2339 \n****Full instructional classes available!  See our website at www.BoatSafeUS.com
URL:https://oceancountytourism.com/event/nj-boat-safety-exam-in-toms-river-nj-41/
LOCATION:Toms River Elks Lodge #1875\, 600 Washington Street\, Toms River\, NJ\, 08753\, United States
ATTACH;FMTTYPE=image/jpeg:https://oceancountytourism.com/wp-content/uploads/2026/01/2026-toms-river-exam-black.jpg
END:VEVENT
BEGIN:VEVENT
DTSTART;TZID=America/New_York:20260713T180000
DTEND;TZID=America/New_York:20260713T213000
DTSTAMP:20260421T024403
CREATED:20260105T203702Z
LAST-MODIFIED:20260105T203702Z
UID:10040455-1783965600-1783978200@oceancountytourism.com
SUMMARY:Toms River - NJSP Instructional Boat Safety Class and Exam
DESCRIPTION:Monday & Wednesday\, 7/13/2026 & 7/15/2026 6:00pm to 9:30pm Toms River Elks \n600 Washington Street \nToms River\, NJ  08753   Ocean County \n\nGet your NJ Boating Safety Certificate and be ready for the summer!  NASBLA certified classes – use your NJ boat Safety Certificate in other states!  Our instructors will provide you with a fun-filled and educational look at Boat Safety in New Jersey. \n\nIf you are operating a personal watercraft (Jet Ski\, Wave Runner\, etc.)\, or a power vessel on the waters of the State of New Jersey you are required to possess a New Jersey boat safety certificate. This class meets the State of New Jersey – Division of State Police Marine Law Enforcement requirements for boat safety education.  Temporary certifications will be given upon successful completion of the course.  All Boat Safe US Courses are approved by the National Association of State Boating Law Administrators (NASBLA) and recognized by the U.S. Coast Guard. \n\nRegister for the class at  www.boatsafeus.com/schedule-class \n609-613-2339 \n\nClasses are $110 and are completed in a one-day class (8 1/2  hour day including lunch break and test time) or in two evenings (two 3 1/2 hour classes with mandatory homework).  At the conclusion of the class\, every student\, age 13 and over\, will receive a valid New Jersey State Boaters Safety Certificate. This Certificate is valid for Power Boats and Jet Skis (age 16 and over) and is accepted throughout many states as a valid form of having completed a Boaters Safety Course. \n\nProctored Exams Available!! Take the online course with Recademics\, Ace Boater\, Boat-Ed or Boater-Exam and take the proctored exam with Boat Safe US! The proctored exam is $55\, collected at the exam site in the form of cash or check.  Must register!  See our schedule at www.boatsafeus.com
URL:https://oceancountytourism.com/event/toms-river-njsp-instructional-boat-safety-class-and-exam-35/2026-07-13/
LOCATION:Toms River Elks Lodge #1875\, 600 Washington Street\, Toms River\, NJ\, 08753\, United States
ATTACH;FMTTYPE=image/jpeg:https://oceancountytourism.com/wp-content/uploads/2026/01/2026-general-Toms-River-scaled.jpg
END:VEVENT
BEGIN:VEVENT
DTSTART;TZID=America/New_York:20260713T190000
DTEND;TZID=America/New_York:20260713T190000
DTSTAMP:20260421T024403
CREATED:20260317T182917Z
LAST-MODIFIED:20260317T184752Z
UID:10041813-1783969200-1783969200@oceancountytourism.com
SUMMARY:Monday Night Concert Series: Julian & Dominique
DESCRIPTION:Monday Night Concert Series: Julian & Dominique \nFree Monday night concerts are held at the Franklin Avenue Stage on the boardwalk from 7 p.m. to dusk throughout the summer. \nThese weekly\, family-friendly events feature local singers and bands\, covering genres from oldies to dance tunes.\nAttendees are encouraged to bring beach chairs. \nJuly 13: Julian & Dominique \nMonday Night Concert Series: Julian & Dominique – Seaside Heights New Jersey Official Tourism Information Site
URL:https://oceancountytourism.com/event/monday-night-concert-series-julian-dominique/
LOCATION:Seaside Heights Boardwalk\, 410 Boardwalk\, Seaside Heights\, NJ\, 08751\, United States
CATEGORIES:Concerts,Free,Live Entertainment
ATTACH;FMTTYPE=image/jpeg:https://oceancountytourism.com/wp-content/uploads/2026/03/Untitled-design.jpg
END:VEVENT
END:VCALENDAR