BEGIN:VCALENDAR
VERSION:2.0
PRODID:-//Ocean County Tourism - ECPv6.15.18//NONSGML v1.0//EN
CALSCALE:GREGORIAN
METHOD:PUBLISH
X-WR-CALNAME:Ocean County Tourism
X-ORIGINAL-URL:https://oceancountytourism.com
X-WR-CALDESC:Events for Ocean County Tourism
REFRESH-INTERVAL;VALUE=DURATION:PT1H
X-Robots-Tag:noindex
X-PUBLISHED-TTL:PT1H
BEGIN:VTIMEZONE
TZID:America/New_York
BEGIN:DAYLIGHT
TZOFFSETFROM:-0500
TZOFFSETTO:-0400
TZNAME:EDT
DTSTART:20250309T070000
END:DAYLIGHT
BEGIN:STANDARD
TZOFFSETFROM:-0400
TZOFFSETTO:-0500
TZNAME:EST
DTSTART:20251102T060000
END:STANDARD
BEGIN:DAYLIGHT
TZOFFSETFROM:-0500
TZOFFSETTO:-0400
TZNAME:EDT
DTSTART:20260308T070000
END:DAYLIGHT
BEGIN:STANDARD
TZOFFSETFROM:-0400
TZOFFSETTO:-0500
TZNAME:EST
DTSTART:20261101T060000
END:STANDARD
BEGIN:DAYLIGHT
TZOFFSETFROM:-0500
TZOFFSETTO:-0400
TZNAME:EDT
DTSTART:20270314T070000
END:DAYLIGHT
BEGIN:STANDARD
TZOFFSETFROM:-0400
TZOFFSETTO:-0500
TZNAME:EST
DTSTART:20271107T060000
END:STANDARD
END:VTIMEZONE
BEGIN:VEVENT
DTSTART;TZID=America/New_York:20260628T071500
DTEND;TZID=America/New_York:20260628T084500
DTSTAMP:20260421T083908
CREATED:20260105T170440Z
LAST-MODIFIED:20260220T162445Z
UID:10040432-1782630900-1782636300@oceancountytourism.com
SUMMARY:NJ Boat Safety Exam in Beach Haven\, NJ
DESCRIPTION:Beach Haven Fire Company \nCorner of S Bay Ave & Amber St\, Beach Haven\, NJ  08008 Ocean County Sunday\, 6/28/2026 7:15am to 8:45am \nTake the online course with www.Recademics.com\, www.AceBoater.com\,  www.boat-ed.com or www.boaterexam.com    And then join Boat Safe US for the required proctored exam. \nA NJSP-issued boat safety certificate is required to operate a motorized vessel in NJ.  To operate a powered vessel in the state of New Jersey\, people are required to take a NJ State Police approved boating safety course and pass the proctored exam. This includes all motorized vessels\, like boats\, jet skis and includes electric trolling motors. \nPlease register at www.BoatSafeUS.com      See our complete schedule on our website! \nOnce you have registered\, we will send you the session information as well as a link to a final review\, to help jog your memory! \nWe are certified by the New Jersey State Police and NASBLA to provide NJ Boat Safety Certification classes and exams. \nAlso included: \n*Capt Bob’s exam video review – watch at your leisure and as often as you like. \n*Lifetime support from the Boat Safe US team of experts. \nUpon successful completion of the exam\, students will receive a lifetime Boating Safety Certificate issued by the NJ State Police Marine Services Division that is NASBLA certified. Instructors are USCG Licensed Captains. \nExam@BoatSafeUS.com \nwww.BoatSafeUS.com \nExam provided by Boat Safe US\, LLC! \n609-613-2339 \n****Full instructional classes available!  See our website at www.BoatSafeUS.com
URL:https://oceancountytourism.com/event/nj-boat-safety-exam-in-beach-haven-nj-21/
LOCATION:Beach Haven Vol. Fire Co #1\, 100 S Bay Avenue\, Beach Haven\, NJ\, 08008\, United States
ATTACH;FMTTYPE=image/jpeg:https://oceancountytourism.com/wp-content/uploads/2026/01/2026-beach-haven-exam-black.jpg
END:VEVENT
BEGIN:VEVENT
DTSTART;TZID=America/New_York:20260628T090000
DTEND;TZID=America/New_York:20260628T173000
DTSTAMP:20260421T083908
CREATED:20260105T150558Z
LAST-MODIFIED:20260105T150558Z
UID:10040418-1782637200-1782667800@oceancountytourism.com
SUMMARY:Beach Haven - NJSP Instructional Boat Safety Class and Exam
DESCRIPTION:Sunday\, 6/28/2026 9:00am to 5:30pm Beach Haven Fire Company Corner of S Bay Ave & Amber St \nBeach Haven\, NJ  08008   Ocean County \n\nGet your NJ Boating Safety Certificate and be ready for the summer!  NASBLA certified classes – use your NJ boat Safety Certificate in other states!  Our instructors will provide you with a fun-filled and educational look at Boat Safety in New Jersey. \n\nIf you are operating a personal watercraft (Jet Ski\, Wave Runner\, etc.)\, or a power vessel on the waters of the State of New Jersey you are required to possess a New Jersey boat safety certificate. This class meets the State of New Jersey – Division of State Police Marine Law Enforcement requirements for boat safety education.  Temporary certifications will be given upon successful completion of the course.  All Boat Safe US Courses are approved by the National Association of State Boating Law Administrators (NASBLA) and recognized by the U.S. Coast Guard. \n\nRegister for the class at  www.boatsafeus.com/schedule-class \n609-613-2339 \n\nClasses are $110 and are completed in a one-day class (8 1/2  hour day including lunch break and test time) or in two evenings (two 3 1/2 hour classes with mandatory homework).  At the conclusion of the class\, every student\, age 13 and over\, will receive a valid New Jersey State Boaters Safety Certificate. This Certificate is valid for Power Boats and Jet Skis (age 16 and over) and is accepted throughout many states as a valid form of having completed a Boaters Safety Course. \n\nProctored Exams Available!! Take the online course with Recademics\, Ace Boater\, Boat-Ed or Boater-Exam and take the proctored exam with Boat Safe US! The proctored exam is $55\, collected at the exam site in the form of cash or check.  Must register!  See our schedule at www.boatsafeus.com \n\nwww.BoatSafeUS.com \nCapt@boatsafeus.com \n609-613-2339
URL:https://oceancountytourism.com/event/beach-haven-njsp-instructional-boat-safety-class-and-exam-17/
LOCATION:Beach Haven Vol. Fire Co #1\, 100 S Bay Avenue\, Beach Haven\, NJ\, 08008\, United States
ATTACH;FMTTYPE=image/jpeg:https://oceancountytourism.com/wp-content/uploads/2026/01/2026-general-Beach-Haven-scaled.jpg
END:VEVENT
BEGIN:VEVENT
DTSTART;TZID=America/New_York:20260628T090000
DTEND;TZID=America/New_York:20260628T173000
DTSTAMP:20260421T083908
CREATED:20260105T203044Z
LAST-MODIFIED:20260105T203044Z
UID:10040451-1782637200-1782667800@oceancountytourism.com
SUMMARY:Toms River - NJSP Instructional Boat Safety Class and Exam
DESCRIPTION:Sunday\, 6/28/2026 09:00am to 5:30pm Toms River Elks \n600 Washington Street \nToms River\, NJ  08753   Ocean County \n\nGet your NJ Boating Safety Certificate and be ready for the summer!  NASBLA certified classes – use your NJ boat Safety Certificate in other states!  Our instructors will provide you with a fun-filled and educational look at Boat Safety in New Jersey. \n\nIf you are operating a personal watercraft (Jet Ski\, Wave Runner\, etc.)\, or a power vessel on the waters of the State of New Jersey you are required to possess a New Jersey boat safety certificate. This class meets the State of New Jersey – Division of State Police Marine Law Enforcement requirements for boat safety education.  Temporary certifications will be given upon successful completion of the course.  All Boat Safe US Courses are approved by the National Association of State Boating Law Administrators (NASBLA) and recognized by the U.S. Coast Guard. \n\nRegister for the class at  www.boatsafeus.com/schedule-class \n609-613-2339 \n\nClasses are $110 and are completed in a one-day class (8 1/2  hour day including lunch break and test time) or in two evenings (two 3 1/2 hour classes with mandatory homework).  At the conclusion of the class\, every student\, age 13 and over\, will receive a valid New Jersey State Boaters Safety Certificate. This Certificate is valid for Power Boats and Jet Skis (age 16 and over) and is accepted throughout many states as a valid form of having completed a Boaters Safety Course. \n\nProctored Exams Available!! Take the online course with Recademics\, Ace Boater\, Boat-Ed or Boater-Exam and take the proctored exam with Boat Safe US! The proctored exam is $55\, collected at the exam site in the form of cash or check.  Must register!  See our schedule at www.boatsafeus.com \n 
URL:https://oceancountytourism.com/event/toms-river-njsp-instructional-boat-safety-class-and-exam-32/
LOCATION:Toms River Elks Lodge #1875\, 600 Washington Street\, Toms River\, NJ\, 08753\, United States
ATTACH;FMTTYPE=image/jpeg:https://oceancountytourism.com/wp-content/uploads/2026/01/2026-general-Toms-River-scaled.jpg
END:VEVENT
BEGIN:VEVENT
DTSTART;TZID=America/New_York:20260628T100000
DTEND;TZID=America/New_York:20260628T100000
DTSTAMP:20260421T083908
CREATED:20260324T122210Z
LAST-MODIFIED:20260324T122210Z
UID:10041938-1782640800-1782640800@oceancountytourism.com
SUMMARY:Second Annual Pride on the Point
DESCRIPTION:Pride on the Point \nA celebration of love\, inclusion\, and community. \nThis town-wide celebration will feature local businesses\, giveaways\, specials\, and community activities throughout downtown. \nEvent Details: \nSunday\, June 28 2026 \n10:00 AM – Until Store Closings (hours vary by business) \nDowntown Point Pleasant Beach\, NJ \nHosted by Opal & Olive & The Point Pleasant Beach Chamber of Commerce \nEvent Link: https://www.facebook.com/share/18PuUv4Kfw/
URL:https://oceancountytourism.com/event/second-annual-pride-on-the-point/
LOCATION:Downtown Point Pleasant Beach\, 710 Arnold Ave\, Point Pleasant Beach\, 08742
CATEGORIES:Festivals
ATTACH;FMTTYPE=image/jpeg:https://oceancountytourism.com/wp-content/uploads/2026/03/655761011_1535770815217416_3568704200758423590_n.jpg
ORGANIZER;CN="Opal & Olive":MAILTO:contact@opalandolive.com
END:VEVENT
BEGIN:VEVENT
DTSTART;TZID=America/New_York:20260628T120000
DTEND;TZID=America/New_York:20260628T140000
DTSTAMP:20260421T083908
CREATED:20260406T150852Z
LAST-MODIFIED:20260406T150852Z
UID:10042264-1782648000-1782655200@oceancountytourism.com
SUMMARY:Sundays at 68th St
DESCRIPTION:Long Beach Township Sundays at 68th St 2026 \n12pm-2pm \nJune 28 – The Samantha Dress CollectiveJuly 5 – The MetaphoricalsJuly 12 – Naughty PinesJuly 19 – Chevy Lopez (12-3pm)July 26 – East Two ThreeAugust 2 – The AccousticratsAugust 9 – Jimmy BroganAugust 16 – The Black TiesAugust 23 – InnletAugust 30 – Gypsy MoonSeptember 6 – Bryan Hansen Band \nSundays at 68th St Beach Concerts | Facebook
URL:https://oceancountytourism.com/event/sundays-at-68th-st/2026-06-28/
LOCATION:68th Street Brant Beach\, 68th St.\, Brant Beach\, 08008
CATEGORIES:Concerts,Live Entertainment
ATTACH;FMTTYPE=image/jpeg:https://oceancountytourism.com/wp-content/uploads/2026/04/666224169_122169573608667953_1501162523627609511_n.jpg
ORGANIZER;CN="LBT Parks & Recreation":MAILTO:recreation@longbeachtownship.com
END:VEVENT
BEGIN:VEVENT
DTSTART;TZID=America/New_York:20260628T160000
DTEND;TZID=America/New_York:20260628T173000
DTSTAMP:20260421T083908
CREATED:20260105T135632Z
LAST-MODIFIED:20260220T153805Z
UID:10040405-1782662400-1782667800@oceancountytourism.com
SUMMARY:NJ Boat Safety Exam in Toms River\, NJ
DESCRIPTION:Toms River Elks \n600 Washington Street\, Toms River\, NJ  08753 Ocean County Sunday\, 6/28/2026 4:00pm to 5:30pm \nTake the online course with www.Recademics.com\, www.AceBoater.com\,  www.boat-ed.com or www.boaterexam.com    And then join Boat Safe US for the required proctored exam. \nA NJSP-issued boat safety certificate is required to operate a motorized vessel in NJ.  To operate a powered vessel in the state of New Jersey\, people are required to take a NJ State Police approved boating safety course and pass the proctored exam. This includes all motorized vessels\, like boats\, jet skis and includes electric trolling motors. \nPlease register at www.BoatSafeUS.com      See our complete schedule on our website! \nOnce you have registered\, we will send you the session information as well as a link to a final review\, to help jog your memory! \nWe are certified by the New Jersey State Police and NASBLA to provide NJ Boat Safety Certification classes and exams. \nAlso included: \n*Capt Bob’s exam video review – watch at your leisure and as often as you like. \n*Lifetime support from the Boat Safe US team of experts. \nUpon successful completion of the exam\, students will receive a lifetime Boating Safety Certificate issued by the NJ State Police Marine Services Division that is NASBLA certified. Instructors are USCG Licensed Captains. \nExam@BoatSafeUS.com \nwww.BoatSafeUS.com \nExam provided by Boat Safe US\, LLC! \n609-613-2339 \n****Full instructional classes available!  See our website at www.BoatSafeUS.com
URL:https://oceancountytourism.com/event/nj-boat-safety-exam-in-toms-river-nj-24/
LOCATION:Toms River Elks Lodge #1875\, 600 Washington Street\, Toms River\, NJ\, 08753\, United States
ATTACH;FMTTYPE=image/jpeg:https://oceancountytourism.com/wp-content/uploads/2026/01/2026-toms-river-exam-black.jpg
END:VEVENT
BEGIN:VEVENT
DTSTART;TZID=America/New_York:20260628T160000
DTEND;TZID=America/New_York:20260628T173000
DTSTAMP:20260421T083908
CREATED:20260105T170234Z
LAST-MODIFIED:20260220T153146Z
UID:10040431-1782662400-1782667800@oceancountytourism.com
SUMMARY:NJ Boat Safety Exam in Beach Haven\, NJ
DESCRIPTION:Beach Haven Fire Company \nCorner of S Bay Ave & Amber St\, Beach Haven\, NJ  08008 Ocean County Sunday\, 6/28/2026 4:00pm to 5:30pm \nTake the online course with www.Recademics.com\, www.AceBoater.com\,  www.boat-ed.com or www.boaterexam.com    And then join Boat Safe US for the required proctored exam. \nA NJSP-issued boat safety certificate is required to operate a motorized vessel in NJ.  To operate a powered vessel in the state of New Jersey\, people are required to take a NJ State Police approved boating safety course and pass the proctored exam. This includes all motorized vessels\, like boats\, jet skis and includes electric trolling motors. \nPlease register at www.BoatSafeUS.com      See our complete schedule on our website! \nOnce you have registered\, we will send you the session information as well as a link to a final review\, to help jog your memory! \nWe are certified by the New Jersey State Police and NASBLA to provide NJ Boat Safety Certification classes and exams. \nAlso included: \n*Capt Bob’s exam video review – watch at your leisure and as often as you like. \n*Lifetime support from the Boat Safe US team of experts. \nUpon successful completion of the exam\, students will receive a lifetime Boating Safety Certificate issued by the NJ State Police Marine Services Division that is NASBLA certified. Instructors are USCG Licensed Captains. \nExam@BoatSafeUS.com \nwww.BoatSafeUS.com \nExam provided by Boat Safe US\, LLC! \n609-613-2339 \n****Full instructional classes available!  See our website at www.BoatSafeUS.com
URL:https://oceancountytourism.com/event/nj-boat-safety-exam-in-beach-haven-nj-20/
LOCATION:Beach Haven Vol. Fire Co #1\, 100 S Bay Avenue\, Beach Haven\, NJ\, 08008\, United States
ATTACH;FMTTYPE=image/jpeg:https://oceancountytourism.com/wp-content/uploads/2026/01/2026-beach-haven-exam-black.jpg
END:VEVENT
BEGIN:VEVENT
DTSTART;TZID=America/New_York:20260628T190000
DTEND;TZID=America/New_York:20260628T190000
DTSTAMP:20260421T083908
CREATED:20260420T123004Z
LAST-MODIFIED:20260420T123004Z
UID:10042500-1782673200-1782673200@oceancountytourism.com
SUMMARY:Lavallette Summer Concert Series
DESCRIPTION:Free Summer Concerts at the Lavallette Gazebo \nEnjoy live music under the stars! \nSundays all summer long \nConcerts begin at 7pm \nJuly 5th at 8pm (fireworks night) \nPerformers to be announced \nSponsored in part by the Ocean County Carousel of Music
URL:https://oceancountytourism.com/event/lavallette-summer-concert-series/2026-06-28/
LOCATION:Lavallette Gazebo & Bayfront\, Philadelphia Avenue\, Lavallette\, NJ\, 08735\, United States
CATEGORIES:Concerts,Free,Live Entertainment
ATTACH;FMTTYPE=image/jpeg:https://oceancountytourism.com/wp-content/uploads/2026/04/Event-Poster-Web-Concerts.jpg
ORGANIZER;CN="Enjoy Lavallette":MAILTO:info@enjoylavallette.com
END:VEVENT
END:VCALENDAR