BEGIN:VCALENDAR
VERSION:2.0
PRODID:-//Ocean County Tourism - ECPv6.15.18//NONSGML v1.0//EN
CALSCALE:GREGORIAN
METHOD:PUBLISH
X-ORIGINAL-URL:https://oceancountytourism.com
X-WR-CALDESC:Events for Ocean County Tourism
REFRESH-INTERVAL;VALUE=DURATION:PT1H
X-Robots-Tag:noindex
X-PUBLISHED-TTL:PT1H
BEGIN:VTIMEZONE
TZID:America/New_York
BEGIN:DAYLIGHT
TZOFFSETFROM:-0500
TZOFFSETTO:-0400
TZNAME:EDT
DTSTART:20250309T070000
END:DAYLIGHT
BEGIN:STANDARD
TZOFFSETFROM:-0400
TZOFFSETTO:-0500
TZNAME:EST
DTSTART:20251102T060000
END:STANDARD
BEGIN:DAYLIGHT
TZOFFSETFROM:-0500
TZOFFSETTO:-0400
TZNAME:EDT
DTSTART:20260308T070000
END:DAYLIGHT
BEGIN:STANDARD
TZOFFSETFROM:-0400
TZOFFSETTO:-0500
TZNAME:EST
DTSTART:20261101T060000
END:STANDARD
BEGIN:DAYLIGHT
TZOFFSETFROM:-0500
TZOFFSETTO:-0400
TZNAME:EDT
DTSTART:20270314T070000
END:DAYLIGHT
BEGIN:STANDARD
TZOFFSETFROM:-0400
TZOFFSETTO:-0500
TZNAME:EST
DTSTART:20271107T060000
END:STANDARD
END:VTIMEZONE
BEGIN:VEVENT
DTSTART;TZID=America/New_York:20260609T090000
DTEND;TZID=America/New_York:20260609T150000
DTSTAMP:20260423T150654
CREATED:20260406T142709Z
LAST-MODIFIED:20260406T142709Z
UID:10042247-1780995600-1781017200@oceancountytourism.com
SUMMARY:Cafe Scenes in Pastel
DESCRIPTION:In this class\, we will be working on creating a cafe scene in soft pastel. \nThe hustle and bustle of chefs\, servers and bussers can be so much fun to capture! \nIn this one-day workshop\, we will: \n  – work on capturing the action \n  – simplifying the figures in motion \nFollow along with the Renee or bring your own images to work on.  Join us to enhance your skills and unlock your creativity in pastel painting! \nAll levels welcome. \nTuition:  $60 (member)/$65(non-member) \nhttp://www.pineshoresartassociation.org \neducation@pineshoresartassociation.org \n6095973557
URL:https://oceancountytourism.com/event/cafe-scenes-in-pastel/
LOCATION:Pine Shores Art Association\, 94 Stafford Avenue\, Stafford\, NJ\, 08050\, United States
CATEGORIES:Art,Cultural & Heritage
ATTACH;FMTTYPE=image/jpeg:https://oceancountytourism.com/wp-content/uploads/2026/04/cafe-scenes-in-pastel-002.jpg
END:VEVENT
BEGIN:VEVENT
DTSTART;TZID=America/New_York:20260609T110000
DTEND;TZID=America/New_York:20260609T150000
DTSTAMP:20260423T150654
CREATED:20260406T142519Z
LAST-MODIFIED:20260406T142519Z
UID:10042246-1781002800-1781017200@oceancountytourism.com
SUMMARY:"Make it in Glass": 6x8 Glass Mosaic - June
DESCRIPTION:Join area expert Cheryl Syminink to create your own 6 inch by 8 inch glass mosaic! \nYou will learn how to cut glass with glass tools. \nYou will also learn how to grout your piece to finish it off. \nAll supplies included\, however you must bring your own small sketch of the same size –Cheryl can help you create it! \nPlease note: the photo used is Cheryl’s work\, and used for marketing purposes only. \nSupplies Included \nTuition:  $80 \nhttp://www.pineshoresartassociation.org \neducation@pineshoresartassociation.org \n6095973557
URL:https://oceancountytourism.com/event/make-it-in-glass-6x8-glass-mosaic-june/
LOCATION:Pine Shores Art Association Tuckerton\, 140 East Main Street\, Tuckerton\, NJ\, 08087\, United States
CATEGORIES:Art,Cultural & Heritage
ATTACH;FMTTYPE=image/jpeg:https://oceancountytourism.com/wp-content/uploads/2026/04/mosaics-002.jpg
END:VEVENT
BEGIN:VEVENT
DTSTART;TZID=America/New_York:20260609T180000
DTEND;TZID=America/New_York:20260609T213000
DTSTAMP:20260423T150654
CREATED:20260209T133637Z
LAST-MODIFIED:20260209T133637Z
UID:10041264-1781028000-1781040600@oceancountytourism.com
SUMMARY:Point Pleasant Beach - NJSP Instructional Boat Safety Class and Exam
DESCRIPTION:Tuesday & Thursday\, 6/9/2026 & 6/11/2026 6:00pm to 9:30pm Pt Pleasant Womens Club \n513 St Louis Ave \nPoint Pleasant Beach\, NJ  08742   Ocean County \n\nGet your NJ Boating Safety Certificate and be ready for the summer!  NASBLA certified classes – use your NJ boat Safety Certificate in other states!  Our instructors will provide you with a fun-filled and educational look at Boat Safety in New Jersey. \n\nIf you are operating a personal watercraft (Jet Ski\, Wave Runner\, etc.)\, or a power vessel on the waters of the State of New Jersey you are required to possess a New Jersey boat safety certificate. This class meets the State of New Jersey – Division of State Police Marine Law Enforcement requirements for boat safety education.  Temporary certifications will be given upon successful completion of the course.  All Boat Safe US Courses are approved by the National Association of State Boating Law Administrators (NASBLA) and recognized by the U.S. Coast Guard. \n\nRegister for the class at  www.boatsafeus.com/schedule-class \n609-613-2339 \n\nClasses are $110 and are completed in a one-day class (8 1/2  hour day including lunch break and test time) or in two evenings (two 3 1/2 hour classes with mandatory homework).  At the conclusion of the class\, every student\, age 13 and over\, will receive a valid New Jersey State Boaters Safety Certificate. This Certificate is valid for Power Boats and Jet Skis (age 16 and over) and is accepted throughout many states as a valid form of having completed a Boaters Safety Course. \n\nProctored Exams Available!! Take the online course with Recademics\, Ace Boater\, Boat-Ed or Boater-Exam and take the proctored exam with Boat Safe US! The proctored exam is $55\, collected at the exam site in the form of cash or check.  Must register!  See our schedule at www.boatsafeus.com \n\nwww.BoatSafeUS.com \nCapt@boatsafeus.com \n609-613-2339
URL:https://oceancountytourism.com/event/point-pleasant-beach-njsp-instructional-boat-safety-class-and-exam-5/2026-06-09/
LOCATION:Pt Pleasant Womans Club\, 513 St Louis Ave\, Point Pleasant Beach\, 08742\, United States
ATTACH;FMTTYPE=image/jpeg:https://oceancountytourism.com/wp-content/uploads/2026/02/Pt-Pleasant-WC-class-ad-chatgpt-general.jpg
END:VEVENT
BEGIN:VEVENT
DTSTART;TZID=America/New_York:20260609T183000
DTEND;TZID=America/New_York:20260609T183000
DTSTAMP:20260423T150654
CREATED:20260305T172700Z
LAST-MODIFIED:20260305T172700Z
UID:10041529-1781029800-1781029800@oceancountytourism.com
SUMMARY:Point Pleasant Beach Summer Concert Series
DESCRIPTION:Point Pleasant Beach Recreation Committee \nSummer Concert Series \nJune 9 – The Porch Pirates \nJune 23 – Hound Dogs Where the Kings return the Journey Show \nJuly 14 – Mushmouth \nJuly 28 – Vinyl Madness \nAugust 11 – The Get Down Committee \nAugust 25 – On the Rocks \n\nAll shows start at 6:30pm on Tuesdays at the Bandshell on Arnold Ave & Baltimore Ave \nBYOC (Bring your own chair) \nFood vendors\, 50/50 raffle & good vibes all summer long! \n 
URL:https://oceancountytourism.com/event/point-pleasant-beach-summer-concert-series/2026-06-09/
LOCATION:The Bandshell\, Arnold Ave & Baltimore Ave\, Point Pleasant Beach\, NJ\, 08742\, United States
CATEGORIES:Concerts,Live Entertainment
ATTACH;FMTTYPE=image/jpeg:https://oceancountytourism.com/wp-content/uploads/2026/03/641787260_18070271969548911_1814372177173056360_n.jpg
END:VEVENT
END:VCALENDAR