BEGIN:VCALENDAR
VERSION:2.0
PRODID:-//Ocean County Tourism - ECPv6.15.18//NONSGML v1.0//EN
CALSCALE:GREGORIAN
METHOD:PUBLISH
X-WR-CALNAME:Ocean County Tourism
X-ORIGINAL-URL:https://oceancountytourism.com
X-WR-CALDESC:Events for Ocean County Tourism
REFRESH-INTERVAL;VALUE=DURATION:PT1H
X-Robots-Tag:noindex
X-PUBLISHED-TTL:PT1H
BEGIN:VTIMEZONE
TZID:America/New_York
BEGIN:DAYLIGHT
TZOFFSETFROM:-0500
TZOFFSETTO:-0400
TZNAME:EDT
DTSTART:20250309T070000
END:DAYLIGHT
BEGIN:STANDARD
TZOFFSETFROM:-0400
TZOFFSETTO:-0500
TZNAME:EST
DTSTART:20251102T060000
END:STANDARD
BEGIN:DAYLIGHT
TZOFFSETFROM:-0500
TZOFFSETTO:-0400
TZNAME:EDT
DTSTART:20260308T070000
END:DAYLIGHT
BEGIN:STANDARD
TZOFFSETFROM:-0400
TZOFFSETTO:-0500
TZNAME:EST
DTSTART:20261101T060000
END:STANDARD
BEGIN:DAYLIGHT
TZOFFSETFROM:-0500
TZOFFSETTO:-0400
TZNAME:EDT
DTSTART:20270314T070000
END:DAYLIGHT
BEGIN:STANDARD
TZOFFSETFROM:-0400
TZOFFSETTO:-0500
TZNAME:EST
DTSTART:20271107T060000
END:STANDARD
END:VTIMEZONE
BEGIN:VEVENT
DTSTART;TZID=America/New_York:20260525T073000
DTEND;TZID=America/New_York:20260525T073000
DTSTAMP:20260419T230514
CREATED:20260325T165241Z
LAST-MODIFIED:20260325T165241Z
UID:10041996-1779694200-1779694200@oceancountytourism.com
SUMMARY:Complimentary Gourmet Breakfast for Veterans
DESCRIPTION:Please join the Mathis House Bed & Breakfast and Victorian Tea Room for a meaningful morning honoring our veterans with a gourmet breakfast served in a warm\, welcoming setting.\nAs we approach the unofficial start of summer\, we pause to remember those who served and are no longer with us.\nAs a gesture of gratitude to our military and veterans\, we will provide a gourmet breakfast.\nIn celebration of America’s 250th birthday\, The Mathis House invites veterans to a complimentary breakfast beginning at 7:30 AM—just before the Memorial Day Parade steps off on Main Street.\nVeterans & active military: Complimentary (please present military ID) and RSVPPublic: Breakfast available by reservation for $20 per person plus tax and gratuity.\nSeating: 7:30 AM–8:45 AM\, with a prime view of the Memorial Day Parade.\nBreakfast Menu:Freshly baked scones with clotted cream & lemon curdBroccoli & cheddar frittataSeasonal fruit saladApplewood-smoked baconFreshly brewed coffee\, orange juice\, and gourmet teas.\nReservations required. Call 732-818-7580 or book on RESY at www.MathisHouse600Main.com.
URL:https://oceancountytourism.com/event/complimentary-gourmet-breakfast-for-veterans/
LOCATION:Mathis House\, 600 Main St\, Toms River\, NJ\, 08753\, United States
CATEGORIES:Food
ATTACH;FMTTYPE=image/jpeg:https://oceancountytourism.com/wp-content/uploads/2026/03/655550343_1660781842240606_212922667047892914_n.jpg
END:VEVENT
BEGIN:VEVENT
DTSTART;TZID=America/New_York:20260525T090000
DTEND;TZID=America/New_York:20260525T090000
DTSTAMP:20260419T230514
CREATED:20260327T160356Z
LAST-MODIFIED:20260327T160357Z
UID:10042121-1779699600-1779699600@oceancountytourism.com
SUMMARY:Memorial Day at the Lacey Elks Lodge
DESCRIPTION:Memorial Day at The Lacey Elks Lodge \nMonday May 25th \n9:00am – whenever \nOutside in the Pavilion \nEvent Features: Vendors\, food trucks\, live music\, family fun\, lots of fun and more! \nOpen to the public \nGrrockyourself & The Polish Nannies \nhttps://www.facebook.com/LaceyelksLodge2518pr
URL:https://oceancountytourism.com/event/memorial-day-at-the-lacey-elks-lodge/
LOCATION:Lacey Elks Lodge #2518\, 900 Beach Blvd.\, Forked River\, NJ\, 08731\, United States
CATEGORIES:Festivals & Family Fun,Food,Live Entertainment
ATTACH;FMTTYPE=image/jpeg:https://oceancountytourism.com/wp-content/uploads/2026/03/658141631_925808976971245_8614164247217000853_n.jpg
END:VEVENT
BEGIN:VEVENT
DTSTART;TZID=America/New_York:20260525T130000
DTEND;TZID=America/New_York:20260525T130000
DTSTAMP:20260419T230514
CREATED:20260406T185737Z
LAST-MODIFIED:20260406T185737Z
UID:10042295-1779714000-1779714000@oceancountytourism.com
SUMMARY:Plumsted Township Memorial Day Parade
DESCRIPTION:You are invited to celebrate Memorial Day\, May 25th\,  2026 with Plumsted Township. \nJoin us at our Annual Memorial Day Parade\, beginning at 1pm\, as we honor our heroes with music\, marching bands\, floats and community pride. \nThe parade starts in front of the Dr. Gerald H. Woehr Elementary School\, 44 N. Main St.\, travels south onto Main St. Downtown\, and concludes at Meadowbrook La. at approximately 2:15pm. \nA Memorial Day Service will be held at American Legion Post 445 immediately after the entire parade finishes. \nLight refreshments will be served following the service. \nAlso\, please do not miss your opportunity to participate in this year’s parade. \nPlumsted encourages color guards\, floats bands\, non-profit organizations\, emergency vehicles\, farm vehicles\, antique and specialty cars\, among other groups to partake\, \nreflecting the tapestry of our rural community. \nplumsted.org
URL:https://oceancountytourism.com/event/plumsted-township-memorial-day-parade/
LOCATION:Dr. Gerald H. Woehr Elementary School\, 44 N. Main Street\, New Egypt\, 08533\, United States
CATEGORIES:Festivals & Family Fun
ATTACH;FMTTYPE=image/jpeg:https://oceancountytourism.com/wp-content/uploads/2022/04/icon-fun.jpg
END:VEVENT
END:VCALENDAR