BEGIN:VCALENDAR
VERSION:2.0
PRODID:-//Ocean County Tourism - ECPv6.15.18//NONSGML v1.0//EN
CALSCALE:GREGORIAN
METHOD:PUBLISH
X-WR-CALNAME:Ocean County Tourism
X-ORIGINAL-URL:https://oceancountytourism.com
X-WR-CALDESC:Events for Ocean County Tourism
REFRESH-INTERVAL;VALUE=DURATION:PT1H
X-Robots-Tag:noindex
X-PUBLISHED-TTL:PT1H
BEGIN:VTIMEZONE
TZID:America/New_York
BEGIN:DAYLIGHT
TZOFFSETFROM:-0500
TZOFFSETTO:-0400
TZNAME:EDT
DTSTART:20250309T070000
END:DAYLIGHT
BEGIN:STANDARD
TZOFFSETFROM:-0400
TZOFFSETTO:-0500
TZNAME:EST
DTSTART:20251102T060000
END:STANDARD
BEGIN:DAYLIGHT
TZOFFSETFROM:-0500
TZOFFSETTO:-0400
TZNAME:EDT
DTSTART:20260308T070000
END:DAYLIGHT
BEGIN:STANDARD
TZOFFSETFROM:-0400
TZOFFSETTO:-0500
TZNAME:EST
DTSTART:20261101T060000
END:STANDARD
BEGIN:DAYLIGHT
TZOFFSETFROM:-0500
TZOFFSETTO:-0400
TZNAME:EDT
DTSTART:20270314T070000
END:DAYLIGHT
BEGIN:STANDARD
TZOFFSETFROM:-0400
TZOFFSETTO:-0500
TZNAME:EST
DTSTART:20271107T060000
END:STANDARD
END:VTIMEZONE
BEGIN:VEVENT
DTSTART;TZID=America/New_York:20260524T080000
DTEND;TZID=America/New_York:20260524T130000
DTSTAMP:20260420T004400
CREATED:20260225T194624Z
LAST-MODIFIED:20260225T194624Z
UID:10041483-1779609600-1779627600@oceancountytourism.com
SUMMARY:BlueClaws Spring Flea Market
DESCRIPTION:BlueClaws Spring Flea Market \nMay 24th 8am-1pm \nAccepting vendors now! \nFor more info\, email events@blueclaws.com \nVendor registration starting at $50 \nSpring Flea Market – Sunday\, May 24th | BlueClaws
URL:https://oceancountytourism.com/event/blueclaws-spring-flea-market-2/
LOCATION:Jersey Shore BlueClaws Stadium\, 2 Stadium Way\, Lakewood\, NJ\, United States
CATEGORIES:Festivals & Family Fun
ATTACH;FMTTYPE=image/jpeg:https://oceancountytourism.com/wp-content/uploads/2026/02/643232869_1598031121940404_4990269274775505287_n.jpg
END:VEVENT
BEGIN:VEVENT
DTSTART;TZID=America/New_York:20260524T130000
DTEND;TZID=America/New_York:20260524T160000
DTSTAMP:20260420T004400
CREATED:20260316T190147Z
LAST-MODIFIED:20260316T190147Z
UID:10041759-1779627600-1779638400@oceancountytourism.com
SUMMARY:Hell On Wheels BMX
DESCRIPTION:The Seaside Heights Business Improvement District Presents \nHell on Wheels \nFree event\, 1-4pm \nA Day of thrills\, BMX\, and more! \nSunday May 24\, 2026 \nGrant Ave Beach & Boardwalk \nFor more information visit: Hell On Wheels BMX – Seaside Heights New Jersey Official Tourism Information Site
URL:https://oceancountytourism.com/event/hell-on-wheels-bmx/
LOCATION:Seaside Heights Boardwalk & Grant Ave.\, Grant Avenue\, Seaside Heights
CATEGORIES:Festivals & Family Fun,Free
ATTACH;FMTTYPE=image/jpeg:https://oceancountytourism.com/wp-content/uploads/2026/03/2026_BID_SH_HellOnWheels_7x9-796x1024-1.jpg
END:VEVENT
BEGIN:VEVENT
DTSTART;TZID=America/New_York:20260524T140000
DTEND;TZID=America/New_York:20260524T140000
DTSTAMP:20260420T004400
CREATED:20251218T171632Z
LAST-MODIFIED:20260224T161443Z
UID:10040285-1779631200-1779631200@oceancountytourism.com
SUMMARY:A Grand Night For Singing
DESCRIPTION:Rodgers and Hammerstein’s A grand night for singing \nTaste and imagination\, the two key ingredients for a first-rate revue\, abound in this fresh take on the Rodgers & Hammerstein canon. \nThis new R&H musical opened the 1994 Broadway season with flair and distinction\, garnering wildly enthusiastic notices and earning two Tony nominations\, including Best Musical. \nWith innovative musical arrangements\, including “I’m Gonna Wash That Man Right Outa My Hair\,” “Shall We Dance\,” and “How Do You Solve A Problem Like Maria\,” proving how terrifically up-to-date the remarkable songs of R&H remain. \nhttps://surflight.org/ \ninfo@surflight.org \n609-492-9477
URL:https://oceancountytourism.com/event/a-grand-night-for-singing/2026-05-24/
LOCATION:Surflight Theatre\, 201 Engleside Ave.\, Beach Haven\, NJ\, 08008\, United States
CATEGORIES:Theatre
ATTACH;FMTTYPE=image/jpeg:https://oceancountytourism.com/wp-content/uploads/2025/12/agrand-night-blue-scaled.jpg
END:VEVENT
END:VCALENDAR